BEGIN:VCALENDAR
VERSION:2.0
PRODID:-//Instituto de Investigación Sanitaria de Santiago de Compostela - ECPv6.15.20//NONSGML v1.0//EN
CALSCALE:GREGORIAN
METHOD:PUBLISH
X-WR-CALNAME:Instituto de Investigación Sanitaria de Santiago de Compostela
X-ORIGINAL-URL:https://www.idisantiago.es/en/
X-WR-CALDESC:Events for Instituto de Investigación Sanitaria de Santiago de Compostela
REFRESH-INTERVAL;VALUE=DURATION:PT1H
X-Robots-Tag:noindex
X-PUBLISHED-TTL:PT1H
BEGIN:VTIMEZONE
TZID:Europe/Madrid
BEGIN:DAYLIGHT
TZOFFSETFROM:+0100
TZOFFSETTO:+0200
TZNAME:CEST
DTSTART:20250330T010000
END:DAYLIGHT
BEGIN:STANDARD
TZOFFSETFROM:+0200
TZOFFSETTO:+0100
TZNAME:CET
DTSTART:20251026T010000
END:STANDARD
BEGIN:DAYLIGHT
TZOFFSETFROM:+0100
TZOFFSETTO:+0200
TZNAME:CEST
DTSTART:20260329T010000
END:DAYLIGHT
BEGIN:STANDARD
TZOFFSETFROM:+0200
TZOFFSETTO:+0100
TZNAME:CET
DTSTART:20261025T010000
END:STANDARD
BEGIN:DAYLIGHT
TZOFFSETFROM:+0100
TZOFFSETTO:+0200
TZNAME:CEST
DTSTART:20270328T010000
END:DAYLIGHT
BEGIN:STANDARD
TZOFFSETFROM:+0200
TZOFFSETTO:+0100
TZNAME:CET
DTSTART:20271031T010000
END:STANDARD
END:VTIMEZONE
BEGIN:VEVENT
DTSTART;TZID=Europe/Madrid:20260120T120000
DTEND;TZID=Europe/Madrid:20260409T130000
DTSTAMP:20260424T165124
CREATED:20260116T081346Z
LAST-MODIFIED:20260116T082321Z
UID:44370-1768910400-1775739600@www.idisantiago.es
SUMMARY:Cardiovascular Area Working Groups
DESCRIPTION:Sesiones científicas del área Cardiovascular en el Anfiteatro del IDIS. \nDescargar programa
URL:https://www.idisantiago.es/en/?post_type=tribe_events&p=44371
LOCATION:Anfiteatro IDIS. Laboratorios IDIS\, planta -2. Hospital Clínico Universitario de Santiago de Compostela\, Travesa da Choupana\, S/N\, Santiago de Compostela\, A Coruña\, 15706\, España
CATEGORIES:Formación
END:VEVENT
BEGIN:VEVENT
DTSTART;TZID=Europe/Madrid:20260408T130000
DTEND;TZID=Europe/Madrid:20260408T140000
DTSTAMP:20260424T165124
CREATED:20260407T094433Z
LAST-MODIFIED:20260407T094503Z
UID:45966-1775653200-1775656800@www.idisantiago.es
SUMMARY:IDIS Wednesday (08/04/2026)
DESCRIPTION:«Unravelling missing heritability in ASD through STRs variation and 3D genome architecture» \nby Pablo Carballo Pacoret \n«3D models of brain organoids and cortical neurons derived from human iPSCs reproduce key neurodevelopmental abnormalities caused by TAOK1 depletion» \nby Lucía Fernández-Pedrera Garbayo \nDownload the program of the day here \nTo follow it online you can do so through the link
URL:https://www.idisantiago.es/en/event/idis-wednesday-08-04-2026/
LOCATION:Anfiteatro IDIS. Laboratorios IDIS\, planta -2. Hospital Clínico Universitario de Santiago de Compostela\, Travesa da Choupana\, S/N\, Santiago de Compostela\, A Coruña\, 15706\, España
CATEGORIES:Miércoles IDIS
ATTACH;FMTTYPE=image/png:https://www.idisantiago.es/wp-content/uploads/2026/04/Mercores-IDIS-08.04.26-scaled.png
END:VEVENT
BEGIN:VEVENT
DTSTART;TZID=Europe/Madrid:20260410T164500
DTEND;TZID=Europe/Madrid:20260411T140000
DTSTAMP:20260424T165124
CREATED:20260212T081627Z
LAST-MODIFIED:20260212T091926Z
UID:44894-1775839500-1775916000@www.idisantiago.es
SUMMARY:XIII Curso de formación sobre infección por VIH
DESCRIPTION:La Fundación Pública Galega Instituto de Investigación Sanitaria de Santiago de Compostela (FIDIS) organiza la XIII edición del “Curso de Formación sobre Infección por VIH y otras enfermedades infecciosas” que tendrá lugar los próximos 10 y 11 de abril de 2026 en el Hotel Peregrino de Santiago de Compostela. \nPuedes consultar el programa aquí. \nSorry. This form is no longer available.
URL:https://www.idisantiago.es/en/event/xiii-curso-de-formacion-sobre-infeccion-por-vih/
LOCATION:Hotel Peregrino\, Av. de Rosalía de Castro\, S/N\, Santiago de Compostela\, A Coruña\, 15706
CATEGORIES:Formación,General
ATTACH;FMTTYPE=image/png:https://www.idisantiago.es/wp-content/uploads/2026/02/Captura-de-pantalla-2026-02-12-094723.png
ORGANIZER;CN="Fundaci%C3%B3n P%C3%BAblica Galega Instituto de Investigaci%C3%B3n Sanitaria de Santiago (FIDIS)":MAILTO:formacion@idisantiago.es
END:VEVENT
BEGIN:VEVENT
DTSTART;TZID=Europe/Madrid:20260415T130000
DTEND;TZID=Europe/Madrid:20260415T140000
DTSTAMP:20260424T165124
CREATED:20260413T115436Z
LAST-MODIFIED:20260413T115436Z
UID:46288-1776258000-1776261600@www.idisantiago.es
SUMMARY:IDIS Wednesday (15/04/2026)
DESCRIPTION:«Development of a therapeutic system based on nanoemulsions for ovarian cancer treatment» \nby Laura Fuentes Varela \n«Nirsevimab for RSV universal prophylaxis: findings from the NIRSE-GAL study» \nby Josefina L. Razzini \nDownload the program of the day here \nTo follow it online you can do so through the link
URL:https://www.idisantiago.es/en/event/idis-wednesday-15-04-2026/
LOCATION:Anfiteatro IDIS. Laboratorios IDIS\, planta -2. Hospital Clínico Universitario de Santiago de Compostela\, Travesa da Choupana\, S/N\, Santiago de Compostela\, A Coruña\, 15706\, España
CATEGORIES:Miércoles IDIS
ATTACH;FMTTYPE=image/jpeg:https://www.idisantiago.es/wp-content/uploads/2026/04/Diapositiva1-1.jpg
END:VEVENT
BEGIN:VEVENT
DTSTART;TZID=Europe/Madrid:20260415T163000
DTEND;TZID=Europe/Madrid:20260415T193000
DTSTAMP:20260424T165124
CREATED:20260306T100148Z
LAST-MODIFIED:20260306T100333Z
UID:45538-1776270600-1776281400@www.idisantiago.es
SUMMARY:I Taller Gallego de Actualización en Cáncer de Vejiga No Músculo Invasivo de Alto Riesgo
DESCRIPTION:Presentamos el I Taller Gallego de Actualización en Cáncer de Vejiga No Músculo Invasivo de Alto Riesgo “De la evidencia a la organización” \nDuración total del taller: 3 horas. (16:30 – 19:30)\nLugar: Palacio de la Oliva\nDía: 15 de abril 2026 a las 16:30h \nEl objetivo global del taller es crear un marco común gallego para integrar la revolución terapéutica del cáncer de vejiga no músculo invasivo de alto riesgo\, combinando: \n– Nuevas inmunoterapias sistémicas (sasanlimab\, durvalumab). \n– Terapias intravesicales. \n– Biología molecular (UROMOL\, FGFR3\, TME inflamado\, HER2). \n– Un modelo organizativo autonómico coordinado. \nDescarga el programa completo aquí.
URL:https://www.idisantiago.es/en/event/i-taller-gallego-de-actualizacion-en-cancer-de-vejiga-no-musculo-invasivo-de-alto-riesgo/
CATEGORIES:Formación,General
ATTACH;FMTTYPE=image/png:https://www.idisantiago.es/wp-content/uploads/2026/03/Captura-de-pantalla-2026-03-06-104938.png
END:VEVENT
BEGIN:VEVENT
DTSTART;TZID=Europe/Madrid:20260422T130000
DTEND;TZID=Europe/Madrid:20260422T140000
DTSTAMP:20260424T165124
CREATED:20260421T082528Z
LAST-MODIFIED:20260421T082528Z
UID:46643-1776862800-1776866400@www.idisantiago.es
SUMMARY:IDIS Wednesday (22/04/2026)
DESCRIPTION:«SPARC-driven programmes in CTCs and their impact on breast cancer metastasis» \nby Cristóbal Fernández Santiago \n«Engineering and optimization of non-viral nanocarriers for CAR-T cell manufacturing» \nby Alberto Jiménez \n«EPILUNAR: Epigenomic Profiling of Liquid Biopsy and Immunotherapy Resistance in Lung Cancer» \nby Irene Lorenzo Gómez \nDownload the program of the day here \nTo follow it online you can do so through the link
URL:https://www.idisantiago.es/en/event/idis-wednesday-22-04-2026/
LOCATION:Anfiteatro IDIS. Laboratorios IDIS\, planta -2. Hospital Clínico Universitario de Santiago de Compostela\, Travesa da Choupana\, S/N\, Santiago de Compostela\, A Coruña\, 15706\, España
CATEGORIES:Miércoles IDIS
ATTACH;FMTTYPE=image/jpeg:https://www.idisantiago.es/wp-content/uploads/2026/04/unnamed-3.jpg
END:VEVENT
BEGIN:VEVENT
DTSTART;TZID=Europe/Madrid:20260423T183000
DTEND;TZID=Europe/Madrid:20260423T193000
DTSTAMP:20260424T165124
CREATED:20260420T101642Z
LAST-MODIFIED:20260420T101642Z
UID:46625-1776969000-1776972600@www.idisantiago.es
SUMMARY:Seminario IDIS: "¿Qué se espera de vosotros?"
DESCRIPTION:El próximo 23 de abril de 2026\, a las 18:30 h. recibiremos al Prof. José Castillo\, exdirector científico del IDIS\, Catedrático de Neurología de la USC\, Investigador fundador del Laboratorio de Investigación en Neurociencias Clínicas (LINC) del IDIS. Impartirá la ponencia: “¿Qué se espera de vosotros?” \nLugar: Anfiteatro del IDIS. Planta -2. Hospital Clínico Universitario de Santiago de Compostela. \nConsulta el cartel de la jornada aquí.
URL:https://www.idisantiago.es/en/event/seminario-idis-que-se-espera-de-vosotros/
LOCATION:Anfiteatro IDIS. Laboratorios IDIS\, planta -2. Hospital Clínico Universitario de Santiago de Compostela\, Travesa da Choupana\, S/N\, Santiago de Compostela\, A Coruña\, 15706\, España
CATEGORIES:Formación
ATTACH;FMTTYPE=image/jpeg:https://www.idisantiago.es/wp-content/uploads/2026/04/Cartel-Seminario-JCastillo.abril26.jpg
END:VEVENT
BEGIN:VEVENT
DTSTART;TZID=Europe/Madrid:20260428T131500
DTEND;TZID=Europe/Madrid:20260428T143000
DTSTAMP:20260424T165124
CREATED:20260421T082401Z
LAST-MODIFIED:20260421T082401Z
UID:44954-1777382100-1777386600@www.idisantiago.es
SUMMARY:IDIS Talks (28/04/2026)
DESCRIPTION:El martes\, 28 de abril\, en el Salón de actos 1 del Hospital Clínico\, se celebra el segundo seminario IDIS Talks\, de la mano de: \nCeres Fernández Rozadilla \nInvestigadora líder del grupo E055 – Predisposición al cáncer y Biomarcadores \nDescarga el programa de la jornada aquí
URL:https://www.idisantiago.es/en/event/idis-talks-28-04-2026/
LOCATION:Salón de Actos 1. Hospital Clínico Universitario de Santiago de Compostela\, Rúa da Choupana\, s/n\, Santiago de Compostela\, A Coruña\, 15706\, España
CATEGORIES:IDIS Talks
ATTACH;FMTTYPE=image/png:https://www.idisantiago.es/wp-content/uploads/2026/02/IDISTalks2026.04.28.png
END:VEVENT
END:VCALENDAR