BEGIN:VCALENDAR
VERSION:2.0
PRODID:-//Instituto de Investigación Sanitaria de Santiago de Compostela - ECPv6.15.20//NONSGML v1.0//EN
CALSCALE:GREGORIAN
METHOD:PUBLISH
X-WR-CALNAME:Instituto de Investigación Sanitaria de Santiago de Compostela
X-ORIGINAL-URL:https://www.idisantiago.es/en/
X-WR-CALDESC:Events for Instituto de Investigación Sanitaria de Santiago de Compostela
REFRESH-INTERVAL;VALUE=DURATION:PT1H
X-Robots-Tag:noindex
X-PUBLISHED-TTL:PT1H
BEGIN:VTIMEZONE
TZID:Europe/Madrid
BEGIN:DAYLIGHT
TZOFFSETFROM:+0100
TZOFFSETTO:+0200
TZNAME:CEST
DTSTART:20250330T010000
END:DAYLIGHT
BEGIN:STANDARD
TZOFFSETFROM:+0200
TZOFFSETTO:+0100
TZNAME:CET
DTSTART:20251026T010000
END:STANDARD
BEGIN:DAYLIGHT
TZOFFSETFROM:+0100
TZOFFSETTO:+0200
TZNAME:CEST
DTSTART:20260329T010000
END:DAYLIGHT
BEGIN:STANDARD
TZOFFSETFROM:+0200
TZOFFSETTO:+0100
TZNAME:CET
DTSTART:20261025T010000
END:STANDARD
BEGIN:DAYLIGHT
TZOFFSETFROM:+0100
TZOFFSETTO:+0200
TZNAME:CEST
DTSTART:20270328T010000
END:DAYLIGHT
BEGIN:STANDARD
TZOFFSETFROM:+0200
TZOFFSETTO:+0100
TZNAME:CET
DTSTART:20271031T010000
END:STANDARD
END:VTIMEZONE
BEGIN:VEVENT
DTSTART;TZID=Europe/Madrid:20260423T183000
DTEND;TZID=Europe/Madrid:20260423T193000
DTSTAMP:20260421T021230
CREATED:20260420T101642Z
LAST-MODIFIED:20260420T101642Z
UID:46625-1776969000-1776972600@www.idisantiago.es
SUMMARY:Seminario IDIS: "¿Qué se espera de vosotros?"
DESCRIPTION:El próximo 23 de abril de 2026\, a las 18:30 h. recibiremos al Prof. José Castillo\, exdirector científico del IDIS\, Catedrático de Neurología de la USC\, Investigador fundador del Laboratorio de Investigación en Neurociencias Clínicas (LINC) del IDIS. Impartirá la ponencia: “¿Qué se espera de vosotros?” \nLugar: Anfiteatro del IDIS. Planta -2. Hospital Clínico Universitario de Santiago de Compostela. \nConsulta el cartel de la jornada aquí.
URL:https://www.idisantiago.es/en/event/seminario-idis-que-se-espera-de-vosotros/
LOCATION:Anfiteatro IDIS. Laboratorios IDIS\, planta -2. Hospital Clínico Universitario de Santiago de Compostela\, Travesa da Choupana\, S/N\, Santiago de Compostela\, A Coruña\, 15706\, España
CATEGORIES:Formación
ATTACH;FMTTYPE=image/jpeg:https://www.idisantiago.es/wp-content/uploads/2026/04/Cartel-Seminario-JCastillo.abril26.jpg
END:VEVENT
BEGIN:VEVENT
DTSTART;TZID=Europe/Madrid:20260507T160000
DTEND;TZID=Europe/Madrid:20260508T193000
DTSTAMP:20260421T021230
CREATED:20260326T142251Z
LAST-MODIFIED:20260327T075425Z
UID:45822-1778169600-1778268600@www.idisantiago.es
SUMMARY:XXXVIII Reunión anual de la Sociedad Gallega de Medicina Intensiva y Unidades Coronarias (SOGAMIUC)
DESCRIPTION:La Sociedad Gallega de Medicina Intensiva y unidades coronarias (SOGAMIUC)\, comprometida con la formación continuada de los intensivistas gallegos\, tal y como dice sus estatutos\, organiza esta XXXVIII reunión anual. \nSocios SOGAMIUC: gratis\nNO Socios SOGAMIUC: 100€ \nConsulta el programa aquí. \nEnlace para inscripciones: \nXXXVII REUNIÓN. SANTIAGO 2026​
URL:https://www.idisantiago.es/en/event/xxxviii-reunion-anual-sogamiuc/
LOCATION:Hospital Clínico Universitario de Santiago de Compostela
CATEGORIES:Formación,General
ATTACH;FMTTYPE=image/jpeg:https://www.idisantiago.es/wp-content/uploads/2026/03/PHOTO-2026-03-17-21-21-54.jpg
END:VEVENT
BEGIN:VEVENT
DTSTART;TZID=Europe/Madrid:20260605T160000
DTEND;TZID=Europe/Madrid:20260717T183000
DTSTAMP:20260421T021230
CREATED:20260417T122318Z
LAST-MODIFIED:20260417T123324Z
UID:46604-1780675200-1784313000@www.idisantiago.es
SUMMARY:Actualización en Enfermedades Reumáticas Inflamatorias: Riesgo Óseo\, Terapias Biológicas y Pequeñas Moléculas
DESCRIPTION:Descarga el programa completo aquí.
URL:https://www.idisantiago.es/en/event/actualizacion-en-enfermedades-reumaticas-inflamatorias-riesgo-oseo-terapias-biologicas-y-pequenas-moleculas/
LOCATION:Hospital Universitario Lucus Augusti\, Dr. Ulises Romero\, 1\, Lugo\, Lugo\, 27003\, España
CATEGORIES:Formación,General
ATTACH;FMTTYPE=image/png:https://www.idisantiago.es/wp-content/uploads/2026/04/Captura-de-pantalla-2026-04-17-141511.png
END:VEVENT
BEGIN:VEVENT
DTSTART;TZID=Europe/Madrid:20260618T083000
DTEND;TZID=Europe/Madrid:20260618T160000
DTSTAMP:20260421T021230
CREATED:20260416T075553Z
LAST-MODIFIED:20260416T075726Z
UID:46491-1781771400-1781798400@www.idisantiago.es
SUMMARY:BioIntegraSaúde 2026
DESCRIPTION:El jueves día 18 de junio tendrá lugar la jornada BioIntegraSaúde 2026 en A Coruña\, co-organizada por los tres institutos de Investigación de Galicia: INIBIC\, IDIS y IISGS. \nEste año\, el evento se celebrará en el Salón de Actos del Complejo Hospitalario Universitario de A Coruña. Durante el desarrollo de la jornada habrá dos conferencias (de inauguración y magistral)\, además de un espacio para la presentación de comunicaciones orales y pósteres. \nPodrás asistir todos los profesionales que desarrollen su actividad en cualquiera de los hospitales del SERGAS\, o en los institutos de investigación sanitaria gallegos. \n\nLa jornada es gratuita y el formulario de inscripción a la misma estará abierto hasta el 4 de junio de 2026. Para inscribirte pincha aquí. \n\nLa persona que presente una comunicación oral o defienda un póster se considerará inscrita automáticamente.\nEl resto de los autores\, tendrán que inscribirse en plazo.\n\nEl plazo para la recepción de comunicaciones orales y comunicaciones en formato póster finaliza el 14 de mayo de 2026. \nPara presentar un resumen de comunicación oral o póster\, pincha aquí. \nLas indicaciones para la preparación de resúmenes pueden consultarse aquí. \n\nConsulta el preprograma de la jornada aquí. \nCualquier consulta en relación a la jornada podrán remitirse al correo inscripcionesbiointegrasaude.coruna@sergas.es. \n\nPREPROGRAMA\n \n 
URL:https://www.idisantiago.es/en/?post_type=tribe_events&p=46492
LOCATION:Salón de Actos. 4ª planta. Complejo Hospitalario Universitario de A Coruña (CHUAC)\, As\, Xubias\, 84\, A Coruña\, A Coruña\, 15006\, Spain
CATEGORIES:Formación,General
ATTACH;FMTTYPE=image/png:https://www.idisantiago.es/wp-content/uploads/2026/04/Captura-de-pantalla-2026-04-16-094120.png
ORGANIZER;CN="Instituto de Investigaci%C3%B3n Biom%C3%A9dica de A Coru%C3%B1a":MAILTO:fundacion.profesor.novoa.santos@sergas.es
END:VEVENT
BEGIN:VEVENT
DTSTART;TZID=Europe/Madrid:20260708T090000
DTEND;TZID=Europe/Madrid:20260710T133000
DTSTAMP:20260421T021230
CREATED:20260306T084457Z
LAST-MODIFIED:20260306T085253Z
UID:45101-1783501200-1783690200@www.idisantiago.es
SUMMARY:4th Theoretical & Practical Course of Diagnosis in Thyroid Pathology
DESCRIPTION:Course Directors:\nJosé Manuel Cameselle-Teijeiro\, Ihab Abdulkader Nallib and Manuel Sobrinho-Simões \nThis is an intensive theoretical-practical course concerning thyroid pathology diagnosis with emphasis on cytological\, histopathological\, immunohistochemical and molecular features\, emphasizing the role of the pathologist in the detection of therapeutic targets. The course is aimed at pathologists-in-training and in-practice\, combining lectures and slide seminars with the discussion of more than 100 cases. Continuing Education Credits requested from the Spanish National Health System. Official languages of the course will be English\, Portuguese and Spanish. \nVenue: Hospital Clínico Universitario de Santiago de Compostela (Salón de Actos 1)\, Santiago de Compostela\, Spain. \nDownload the program here \nSorry. This form is no longer accepting new submissions.
URL:https://www.idisantiago.es/en/event/4th-theoretical-practical-course-of-diagnosis-in-thyroid-pathology/
LOCATION:Salón de Actos 1. Hospital Clínico Universitario de Santiago de Compostela\, Rúa da Choupana\, s/n\, Santiago de Compostela\, A Coruña\, 15706\, España
CATEGORIES:Formación,General
ATTACH;FMTTYPE=image/png:https://www.idisantiago.es/wp-content/uploads/2026/03/4cursoPatologiaTiroidea.png
END:VEVENT
END:VCALENDAR