BEGIN:VCALENDAR
VERSION:2.0
PRODID:-//Instituto de Investigación Sanitaria de Santiago de Compostela - ECPv6.15.20//NONSGML v1.0//EN
CALSCALE:GREGORIAN
METHOD:PUBLISH
X-WR-CALNAME:Instituto de Investigación Sanitaria de Santiago de Compostela
X-ORIGINAL-URL:https://www.idisantiago.es
X-WR-CALDESC:Eventos para Instituto de Investigación Sanitaria de Santiago de Compostela
REFRESH-INTERVAL;VALUE=DURATION:PT1H
X-Robots-Tag:noindex
X-PUBLISHED-TTL:PT1H
BEGIN:VTIMEZONE
TZID:Europe/Madrid
BEGIN:DAYLIGHT
TZOFFSETFROM:+0100
TZOFFSETTO:+0200
TZNAME:CEST
DTSTART:20210328T010000
END:DAYLIGHT
BEGIN:STANDARD
TZOFFSETFROM:+0200
TZOFFSETTO:+0100
TZNAME:CET
DTSTART:20211031T010000
END:STANDARD
BEGIN:DAYLIGHT
TZOFFSETFROM:+0100
TZOFFSETTO:+0200
TZNAME:CEST
DTSTART:20220327T010000
END:DAYLIGHT
BEGIN:STANDARD
TZOFFSETFROM:+0200
TZOFFSETTO:+0100
TZNAME:CET
DTSTART:20221030T010000
END:STANDARD
BEGIN:DAYLIGHT
TZOFFSETFROM:+0100
TZOFFSETTO:+0200
TZNAME:CEST
DTSTART:20230326T010000
END:DAYLIGHT
BEGIN:STANDARD
TZOFFSETFROM:+0200
TZOFFSETTO:+0100
TZNAME:CET
DTSTART:20231029T010000
END:STANDARD
END:VTIMEZONE
BEGIN:VEVENT
DTSTART;TZID=Europe/Madrid:20220308T190000
DTEND;TZID=Europe/Madrid:20220308T200000
DTSTAMP:20260422T224430
CREATED:20220217T122037Z
LAST-MODIFIED:20220217T123639Z
UID:13254-1646766000-1646769600@www.idisantiago.es
SUMMARY:‘Aspectos clave en patología cardiovascular’\, el programa de formación de CardioCHUS
DESCRIPTION:La siguiente jornada tendrá lugar el 8 de marzo y abordará la insuficiencia cardíaca preservada. Evento incluido en el Programa de Formación Continuada en Cardiología “Aspectos clave en Patología Cardiovascular” \nCARDIOCHUS-Academy (programa completo)
URL:https://www.idisantiago.es/event/actualizacion-medica-insuficiencia-cardiaca-preservada-fisiopatologia-y-diagnostico-clinico/
LOCATION:Evento online
CATEGORIES:Formación
END:VEVENT
END:VCALENDAR