BEGIN:VCALENDAR
VERSION:2.0
PRODID:-//Instituto de Investigación Sanitaria de Santiago de Compostela - ECPv6.15.20//NONSGML v1.0//EN
CALSCALE:GREGORIAN
METHOD:PUBLISH
X-WR-CALNAME:Instituto de Investigación Sanitaria de Santiago de Compostela
X-ORIGINAL-URL:https://www.idisantiago.es
X-WR-CALDESC:Eventos para Instituto de Investigación Sanitaria de Santiago de Compostela
REFRESH-INTERVAL;VALUE=DURATION:PT1H
X-Robots-Tag:noindex
X-PUBLISHED-TTL:PT1H
BEGIN:VTIMEZONE
TZID:Europe/Madrid
BEGIN:DAYLIGHT
TZOFFSETFROM:+0100
TZOFFSETTO:+0200
TZNAME:CEST
DTSTART:20230326T010000
END:DAYLIGHT
BEGIN:STANDARD
TZOFFSETFROM:+0200
TZOFFSETTO:+0100
TZNAME:CET
DTSTART:20231029T010000
END:STANDARD
BEGIN:DAYLIGHT
TZOFFSETFROM:+0100
TZOFFSETTO:+0200
TZNAME:CEST
DTSTART:20240331T010000
END:DAYLIGHT
BEGIN:STANDARD
TZOFFSETFROM:+0200
TZOFFSETTO:+0100
TZNAME:CET
DTSTART:20241027T010000
END:STANDARD
BEGIN:DAYLIGHT
TZOFFSETFROM:+0100
TZOFFSETTO:+0200
TZNAME:CEST
DTSTART:20250330T010000
END:DAYLIGHT
BEGIN:STANDARD
TZOFFSETFROM:+0200
TZOFFSETTO:+0100
TZNAME:CET
DTSTART:20251026T010000
END:STANDARD
END:VTIMEZONE
BEGIN:VEVENT
DTSTART;VALUE=DATE:20240409
DTEND;VALUE=DATE:20240410
DTSTAMP:20260422T233201
CREATED:20240306T125746Z
LAST-MODIFIED:20240402T091022Z
UID:32479-1712620800-1712707199@www.idisantiago.es
SUMMARY:BIOINTEGRASAÚDE 2024
DESCRIPTION:El 9 de abril de 2024 tendrá lugar la jornada BioIntegraSaúde 2024\, co-organizada por los tres institutos: IDIS\, IISGS e INIBIC. \nEste año el acto se celebrará en el Salón de Actos del Hospital Álvaro Cunqueiro de Vigo (Planta 0\, zona de docencia. Ctra Clara Campoamor\, nº 341) y estará abierto a todos los agentes gallegos de generación y transferencia de conocimiento en el ámbito de la salud\, que se espera que participen activamente en las mesas de debate previstas en el programa. \nEl desarrollo de la Jornada consistirá en tres Mesas de Debate sobre Terapias Avanzadas; Biomarcadores e Inteligencia Artificial. \nAdemás\, este año y como novedad habrá una sesión reservada para el personal investigador en formación o postdoctorales recientes que se realizará a través del concurso «Tus 3 minutesis»\, en el cual las personas participantes deberán explicar la investigación que realizan en su tesis doctoral en un vídeo de tres minutos\, y de una manera que resulte asequible\, utilizando un lenguaje sencillo y comprensible. Un comité de evaluación concederá tres premios a los mejores vídeos y habrá un premio que será otorgado por el público asistente. \nLa asistencia a la jornada es gratuita. El plazo de inscripción estará abierto hasta el 2 de abril de 2024\, puedes acceder a la misma aquí \nConsulta las bases del concurso «Tus 3 minutesis» aquí.   \nAccede al formulario de inscripción en el concurso «Tus 3 minutesis» aquí. \nConsulta el programa de la jornada aquí. \nMás información en biointegrasaude.iisgaliciasur.es 
URL:https://www.idisantiago.es/event/biointegrasaude-2024/
LOCATION:Salón de Actos do Hospital Álvaro Cunqueiro de Vigo\, Ctra Clara Campoamor\, nº 341\, Vigo\, Pontevedra\, 36312\, Spain
CATEGORIES:Formación
ATTACH;FMTTYPE=image/jpeg:https://www.idisantiago.es/wp-content/uploads/2024/03/CARTEL.Biointegrasaude.jpg
END:VEVENT
END:VCALENDAR