BEGIN:VCALENDAR
VERSION:2.0
PRODID:-//Instituto de Investigación Sanitaria de Santiago de Compostela - ECPv6.15.20//NONSGML v1.0//EN
CALSCALE:GREGORIAN
METHOD:PUBLISH
X-WR-CALNAME:Instituto de Investigación Sanitaria de Santiago de Compostela
X-ORIGINAL-URL:https://www.idisantiago.es
X-WR-CALDESC:Eventos para Instituto de Investigación Sanitaria de Santiago de Compostela
REFRESH-INTERVAL;VALUE=DURATION:PT1H
X-Robots-Tag:noindex
X-PUBLISHED-TTL:PT1H
BEGIN:VTIMEZONE
TZID:Europe/Madrid
BEGIN:DAYLIGHT
TZOFFSETFROM:+0100
TZOFFSETTO:+0200
TZNAME:CEST
DTSTART:20250330T010000
END:DAYLIGHT
BEGIN:STANDARD
TZOFFSETFROM:+0200
TZOFFSETTO:+0100
TZNAME:CET
DTSTART:20251026T010000
END:STANDARD
BEGIN:DAYLIGHT
TZOFFSETFROM:+0100
TZOFFSETTO:+0200
TZNAME:CEST
DTSTART:20260329T010000
END:DAYLIGHT
BEGIN:STANDARD
TZOFFSETFROM:+0200
TZOFFSETTO:+0100
TZNAME:CET
DTSTART:20261025T010000
END:STANDARD
BEGIN:DAYLIGHT
TZOFFSETFROM:+0100
TZOFFSETTO:+0200
TZNAME:CEST
DTSTART:20270328T010000
END:DAYLIGHT
BEGIN:STANDARD
TZOFFSETFROM:+0200
TZOFFSETTO:+0100
TZNAME:CET
DTSTART:20271031T010000
END:STANDARD
END:VTIMEZONE
BEGIN:VEVENT
DTSTART;TZID=Europe/Madrid:20260508T100000
DTEND;TZID=Europe/Madrid:20260508T180000
DTSTAMP:20260423T081053
CREATED:20260422T125700Z
LAST-MODIFIED:20260422T130208Z
UID:46695-1778234400-1778263200@www.idisantiago.es
SUMMARY:I CURSO DE COLPOSCOPIA GALICIA
DESCRIPTION:DIRIGIDO A: MIR Ginecología 3º-4º año; ginecólogos especialistas (F.E.A.s) interesados en formarse en patología cervical \nORGANIZADO/COORDINADO por: Ginecólogos gallegos con dedicación a la patología cervical \n– Inés Solar Vilariño (Ginecóloga de la Unidad de Oncología Ginecológica y PTGI Hospital Universitario Lucus Augusti)\n– Efigenia Arias Baltar (Profesora Asociada de la USC. Ginecóloga de la Unidad de Ginecología Oncológica y PTGI y responsable del Comité de Tumores Ginecológicos del CHUS)\n– Covadonga Castro Díaz (Ginecóloga de la Unidad de Ginecología Oncológica y PTGI del CHUS) \nDescarga aquí el programa. \nCon la COLABORACIÓN de: FIDIS\, MSD \nAVALADO por: AEPCC (Asociación Española de Patología Cervical y Colposcopia)
URL:https://www.idisantiago.es/event/i-curso-de-colposcopia-galicia/
LOCATION:Hotel A Quinta da Auga\, Paseo da Amaia\, 23B\, Santiago de Compostela\, A Coruña\, 15706\, Spain
CATEGORIES:Formación,General
ATTACH;FMTTYPE=image/png:https://www.idisantiago.es/wp-content/uploads/2026/04/Captura-de-pantalla-2026-04-22-141037.png
END:VEVENT
END:VCALENDAR