BEGIN:VCALENDAR
VERSION:2.0
PRODID:-//Instituto de Investigación Sanitaria de Santiago de Compostela - ECPv6.15.20//NONSGML v1.0//EN
CALSCALE:GREGORIAN
METHOD:PUBLISH
X-WR-CALNAME:Instituto de Investigación Sanitaria de Santiago de Compostela
X-ORIGINAL-URL:https://www.idisantiago.es
X-WR-CALDESC:Eventos para Instituto de Investigación Sanitaria de Santiago de Compostela
REFRESH-INTERVAL;VALUE=DURATION:PT1H
X-Robots-Tag:noindex
X-PUBLISHED-TTL:PT1H
BEGIN:VTIMEZONE
TZID:Europe/Madrid
BEGIN:DAYLIGHT
TZOFFSETFROM:+0100
TZOFFSETTO:+0200
TZNAME:CEST
DTSTART:20240331T010000
END:DAYLIGHT
BEGIN:STANDARD
TZOFFSETFROM:+0200
TZOFFSETTO:+0100
TZNAME:CET
DTSTART:20241027T010000
END:STANDARD
BEGIN:DAYLIGHT
TZOFFSETFROM:+0100
TZOFFSETTO:+0200
TZNAME:CEST
DTSTART:20250330T010000
END:DAYLIGHT
BEGIN:STANDARD
TZOFFSETFROM:+0200
TZOFFSETTO:+0100
TZNAME:CET
DTSTART:20251026T010000
END:STANDARD
BEGIN:DAYLIGHT
TZOFFSETFROM:+0100
TZOFFSETTO:+0200
TZNAME:CEST
DTSTART:20260329T010000
END:DAYLIGHT
BEGIN:STANDARD
TZOFFSETFROM:+0200
TZOFFSETTO:+0100
TZNAME:CET
DTSTART:20261025T010000
END:STANDARD
END:VTIMEZONE
BEGIN:VEVENT
DTSTART;TZID=Europe/Madrid:20250606T090000
DTEND;TZID=Europe/Madrid:20250606T203000
DTSTAMP:20260424T122128
CREATED:20250307T133921Z
LAST-MODIFIED:20250707T115715Z
UID:39368-1749200400-1749241800@www.idisantiago.es
SUMMARY:I Jornadas Gallegas de Enfermería neonatal
DESCRIPTION:Organizadas por el Servicio de Neonatología del CHUS\, estas jornadas están dirigidas a personal de enfermería\, técnicos en cuidados auxiliares de enfermería (TCAE)\, enfermeros internos residentes (EIR) y estudiantes de grado de Enfermería. \nTendrán lugar el día 6 de junio de 2025\, de 9:00 h a 20:30 h en el Salón de Actos 1 del Hospital Clínico Universitario de Santiago. Aforo limitado a 100 participantes. \nConsulta aquí el programa y el cartel. \nPrecio: \n-Profesionales: 50 EUR \n-EIR y estudiantes de grado: 30 EUR \nContacto: jornadasneonatales@gmail.com \nPara formalizar la inscripción realiza un depósito o transferencia bancaria por el valor total del importe de la matrícula  a nombre de Fundación IDIS en la cuenta ES89 0238 8196 0906 0021 0614 (SWIFT: BSCHESMMXXX) indicando tu NOMBRE+APELLIDOS+JORNADAS NEONATOLOGÍA. Una vez realizado el depósito o transferencia adjunta el justificante de pago en el formulario de inscripción que encontrarás a continuación. Si solicitas una proforma\, cubre los datos de facturación en la inscripción y envía después el justificante de pago a formacion@idisantiago.es. Una vez formalizada la inscripción y cubiertos los datos de facturación estos no podrán ser modificados y la factura se emitirá con los datos completados en el formulario. \nLo siento.  Este formulario ya no está disponible.
URL:https://www.idisantiago.es/event/i-jornadas-neonatales-gallegas/
LOCATION:Salón de Actos 1. Hospital Clínico Universitario de Santiago de Compostela\, Rúa da Choupana\, s/n\, Santiago de Compostela\, A Coruña\, 15706\, España
CATEGORIES:Formación
ATTACH;FMTTYPE=image/jpeg:https://www.idisantiago.es/wp-content/uploads/2025/03/Jornadas-neonatales.jpg
END:VEVENT
END:VCALENDAR