BEGIN:VCALENDAR
VERSION:2.0
PRODID:-//Instituto de Investigación Sanitaria de Santiago de Compostela - ECPv6.15.20//NONSGML v1.0//EN
CALSCALE:GREGORIAN
METHOD:PUBLISH
X-WR-CALNAME:Instituto de Investigación Sanitaria de Santiago de Compostela
X-ORIGINAL-URL:https://www.idisantiago.es
X-WR-CALDESC:Eventos para Instituto de Investigación Sanitaria de Santiago de Compostela
REFRESH-INTERVAL;VALUE=DURATION:PT1H
X-Robots-Tag:noindex
X-PUBLISHED-TTL:PT1H
BEGIN:VTIMEZONE
TZID:Europe/Madrid
BEGIN:DAYLIGHT
TZOFFSETFROM:+0100
TZOFFSETTO:+0200
TZNAME:CEST
DTSTART:20250330T010000
END:DAYLIGHT
BEGIN:STANDARD
TZOFFSETFROM:+0200
TZOFFSETTO:+0100
TZNAME:CET
DTSTART:20251026T010000
END:STANDARD
BEGIN:DAYLIGHT
TZOFFSETFROM:+0100
TZOFFSETTO:+0200
TZNAME:CEST
DTSTART:20260329T010000
END:DAYLIGHT
BEGIN:STANDARD
TZOFFSETFROM:+0200
TZOFFSETTO:+0100
TZNAME:CET
DTSTART:20261025T010000
END:STANDARD
BEGIN:DAYLIGHT
TZOFFSETFROM:+0100
TZOFFSETTO:+0200
TZNAME:CEST
DTSTART:20270328T010000
END:DAYLIGHT
BEGIN:STANDARD
TZOFFSETFROM:+0200
TZOFFSETTO:+0100
TZNAME:CET
DTSTART:20271031T010000
END:STANDARD
END:VTIMEZONE
BEGIN:VEVENT
DTSTART;TZID=Europe/Madrid:20260224T131500
DTEND;TZID=Europe/Madrid:20260224T143000
DTSTAMP:20260420T090920
CREATED:20260218T085913Z
LAST-MODIFIED:20260218T090002Z
UID:44526-1771938900-1771943400@www.idisantiago.es
SUMMARY:IDIS Talks (24/02/2026)
DESCRIPTION:El martes\, 24 de febrero\, en el Salón de actos 1 del Hospital Clínico\, se celebra el quinta seminario IDIS Talks\, de la mano de: \nAlexis Moscoso Rial \nIP del grupo C032 – Imagen Molecular \nDescarga el programa de la jornada aquí
URL:https://www.idisantiago.es/event/idis-talks-27-01-2025-copia/
LOCATION:Salón de Actos 1. Hospital Clínico Universitario de Santiago de Compostela\, Rúa da Choupana\, s/n\, Santiago de Compostela\, A Coruña\, 15706\, España
CATEGORIES:IDIS Talks
ATTACH;FMTTYPE=image/png:https://www.idisantiago.es/wp-content/uploads/2026/01/IDISTalks2026.02.24.png
END:VEVENT
END:VCALENDAR