BEGIN:VCALENDAR
VERSION:2.0
PRODID:-//Instituto de Investigación Sanitaria de Santiago de Compostela - ECPv6.15.20//NONSGML v1.0//EN
CALSCALE:GREGORIAN
METHOD:PUBLISH
X-WR-CALNAME:Instituto de Investigación Sanitaria de Santiago de Compostela
X-ORIGINAL-URL:https://www.idisantiago.es
X-WR-CALDESC:Eventos para Instituto de Investigación Sanitaria de Santiago de Compostela
REFRESH-INTERVAL;VALUE=DURATION:PT1H
X-Robots-Tag:noindex
X-PUBLISHED-TTL:PT1H
BEGIN:VTIMEZONE
TZID:Europe/Madrid
BEGIN:DAYLIGHT
TZOFFSETFROM:+0100
TZOFFSETTO:+0200
TZNAME:CEST
DTSTART:20210328T010000
END:DAYLIGHT
BEGIN:STANDARD
TZOFFSETFROM:+0200
TZOFFSETTO:+0100
TZNAME:CET
DTSTART:20211031T010000
END:STANDARD
BEGIN:DAYLIGHT
TZOFFSETFROM:+0100
TZOFFSETTO:+0200
TZNAME:CEST
DTSTART:20220327T010000
END:DAYLIGHT
BEGIN:STANDARD
TZOFFSETFROM:+0200
TZOFFSETTO:+0100
TZNAME:CET
DTSTART:20221030T010000
END:STANDARD
BEGIN:DAYLIGHT
TZOFFSETFROM:+0100
TZOFFSETTO:+0200
TZNAME:CEST
DTSTART:20230326T010000
END:DAYLIGHT
BEGIN:STANDARD
TZOFFSETFROM:+0200
TZOFFSETTO:+0100
TZNAME:CET
DTSTART:20231029T010000
END:STANDARD
END:VTIMEZONE
BEGIN:VEVENT
DTSTART;TZID=Europe/Madrid:20220405T160000
DTEND;TZID=Europe/Madrid:20220405T210000
DTSTAMP:20260421T010556
CREATED:20220405T131500Z
LAST-MODIFIED:20220405T131724Z
UID:21795-1649174400-1649192400@www.idisantiago.es
SUMMARY:Jornada sobre 'Humanización de los espacios hospitalarios'
DESCRIPTION:La jornada tendrá lugar en el Hospital Clínico Universitario de Santiago y ha sido co-organizada por el Instituto de Investigación Sanitaria de Santiago de Compostela.
URL:https://www.idisantiago.es/event/jornada-sobre-humanizacion-de-los-espacios-hospitalarios/
LOCATION:Hospital Clínico Universitario de Santiago de Compostela
CATEGORIES:General
ATTACH;FMTTYPE=image/jpeg:https://www.idisantiago.es/wp-content/uploads/2022/04/infografia.jpg
END:VEVENT
END:VCALENDAR