BEGIN:VCALENDAR
VERSION:2.0
PRODID:-//Instituto de Investigación Sanitaria de Santiago de Compostela - ECPv6.15.20//NONSGML v1.0//EN
CALSCALE:GREGORIAN
METHOD:PUBLISH
X-WR-CALNAME:Instituto de Investigación Sanitaria de Santiago de Compostela
X-ORIGINAL-URL:https://www.idisantiago.es
X-WR-CALDESC:Eventos para Instituto de Investigación Sanitaria de Santiago de Compostela
REFRESH-INTERVAL;VALUE=DURATION:PT1H
X-Robots-Tag:noindex
X-PUBLISHED-TTL:PT1H
BEGIN:VTIMEZONE
TZID:Europe/Madrid
BEGIN:DAYLIGHT
TZOFFSETFROM:+0100
TZOFFSETTO:+0200
TZNAME:CEST
DTSTART:20210328T010000
END:DAYLIGHT
BEGIN:STANDARD
TZOFFSETFROM:+0200
TZOFFSETTO:+0100
TZNAME:CET
DTSTART:20211031T010000
END:STANDARD
BEGIN:DAYLIGHT
TZOFFSETFROM:+0100
TZOFFSETTO:+0200
TZNAME:CEST
DTSTART:20220327T010000
END:DAYLIGHT
BEGIN:STANDARD
TZOFFSETFROM:+0200
TZOFFSETTO:+0100
TZNAME:CET
DTSTART:20221030T010000
END:STANDARD
BEGIN:DAYLIGHT
TZOFFSETFROM:+0100
TZOFFSETTO:+0200
TZNAME:CEST
DTSTART:20230326T010000
END:DAYLIGHT
BEGIN:STANDARD
TZOFFSETFROM:+0200
TZOFFSETTO:+0100
TZNAME:CET
DTSTART:20231029T010000
END:STANDARD
END:VTIMEZONE
BEGIN:VEVENT
DTSTART;TZID=Europe/Madrid:20220405T160000
DTEND;TZID=Europe/Madrid:20220405T180000
DTSTAMP:20260420T220455
CREATED:20220404T091458Z
LAST-MODIFIED:20220404T091458Z
UID:21468-1649174400-1649181600@www.idisantiago.es
SUMMARY:Las Tesis del IDIS: Epidemiología del cáncer de tiroides en el Área Sanitaria de Santiago de Compostela y Barbanza (1991-2015)
DESCRIPTION:Mañana martes\, María Gemma Rodríguez\, investigadora en el grupo Epigenómica en Endocrinología y Nutrición del IDIS\, liderado por la Dra. Ana B. Crujeiras\, defenderá su tesis sobre cáncer de tiroides dirigida por el Dr. F. Casanueva y el Dr. J.M. Cameselle.
URL:https://www.idisantiago.es/event/las-tesis-del-idis-epidemiologia-del-cancer-de-tiroides-en-el-area-sanitaria-de-santiago-de-compostela-y-barbanza-1991-2015/
LOCATION:Facultad de Medicina\, Rúa de San Francisco\, S/N\, Santiago de Compostela\, A Coruña\, España
CATEGORIES:General
ATTACH;FMTTYPE=image/jpeg:https://www.idisantiago.es/wp-content/uploads/2022/04/FPfMOlFWUAEHkMe.jpeg
END:VEVENT
END:VCALENDAR