BEGIN:VCALENDAR
VERSION:2.0
PRODID:-//Instituto de Investigación Sanitaria de Santiago de Compostela - ECPv6.15.20//NONSGML v1.0//EN
CALSCALE:GREGORIAN
METHOD:PUBLISH
X-WR-CALNAME:Instituto de Investigación Sanitaria de Santiago de Compostela
X-ORIGINAL-URL:https://www.idisantiago.es
X-WR-CALDESC:Eventos para Instituto de Investigación Sanitaria de Santiago de Compostela
REFRESH-INTERVAL;VALUE=DURATION:PT1H
X-Robots-Tag:noindex
X-PUBLISHED-TTL:PT1H
BEGIN:VTIMEZONE
TZID:Europe/Madrid
BEGIN:DAYLIGHT
TZOFFSETFROM:+0100
TZOFFSETTO:+0200
TZNAME:CEST
DTSTART:20210328T010000
END:DAYLIGHT
BEGIN:STANDARD
TZOFFSETFROM:+0200
TZOFFSETTO:+0100
TZNAME:CET
DTSTART:20211031T010000
END:STANDARD
BEGIN:DAYLIGHT
TZOFFSETFROM:+0100
TZOFFSETTO:+0200
TZNAME:CEST
DTSTART:20220327T010000
END:DAYLIGHT
BEGIN:STANDARD
TZOFFSETFROM:+0200
TZOFFSETTO:+0100
TZNAME:CET
DTSTART:20221030T010000
END:STANDARD
BEGIN:DAYLIGHT
TZOFFSETFROM:+0100
TZOFFSETTO:+0200
TZNAME:CEST
DTSTART:20230326T010000
END:DAYLIGHT
BEGIN:STANDARD
TZOFFSETFROM:+0200
TZOFFSETTO:+0100
TZNAME:CET
DTSTART:20231029T010000
END:STANDARD
END:VTIMEZONE
BEGIN:VEVENT
DTSTART;TZID=Europe/Madrid:20220202T090000
DTEND;TZID=Europe/Madrid:20220202T090000
DTSTAMP:20260424T154335
CREATED:20220228T075152Z
LAST-MODIFIED:20220228T075152Z
UID:14222-1643792400-1643792400@www.idisantiago.es
SUMMARY:Miércoles IDIS (02/02/2022)
DESCRIPTION:«Changes in epigenetics profiles throughout early childhood and\ntheir relationship to the response to Pneumococcal vaccination”»\nby Sara Pischedda \n«Abordaje clínico y experimental del ELA»\nby María Candamio \n 
URL:https://www.idisantiago.es/event/miercoles-idis-02-02-2022/
LOCATION:Evento online
CATEGORIES:Miércoles IDIS
ATTACH;FMTTYPE=image/jpeg:https://www.idisantiago.es/wp-content/uploads/2022/02/Cartel.SeminariosIDIS.02022022.jpg
END:VEVENT
END:VCALENDAR