BEGIN:VCALENDAR
VERSION:2.0
PRODID:-//Instituto de Investigación Sanitaria de Santiago de Compostela - ECPv6.15.20//NONSGML v1.0//EN
CALSCALE:GREGORIAN
METHOD:PUBLISH
X-WR-CALNAME:Instituto de Investigación Sanitaria de Santiago de Compostela
X-ORIGINAL-URL:https://www.idisantiago.es
X-WR-CALDESC:Eventos para Instituto de Investigación Sanitaria de Santiago de Compostela
REFRESH-INTERVAL;VALUE=DURATION:PT1H
X-Robots-Tag:noindex
X-PUBLISHED-TTL:PT1H
BEGIN:VTIMEZONE
TZID:Europe/Madrid
BEGIN:DAYLIGHT
TZOFFSETFROM:+0100
TZOFFSETTO:+0200
TZNAME:CEST
DTSTART:20220327T010000
END:DAYLIGHT
BEGIN:STANDARD
TZOFFSETFROM:+0200
TZOFFSETTO:+0100
TZNAME:CET
DTSTART:20221030T010000
END:STANDARD
BEGIN:DAYLIGHT
TZOFFSETFROM:+0100
TZOFFSETTO:+0200
TZNAME:CEST
DTSTART:20230326T010000
END:DAYLIGHT
BEGIN:STANDARD
TZOFFSETFROM:+0200
TZOFFSETTO:+0100
TZNAME:CET
DTSTART:20231029T010000
END:STANDARD
BEGIN:DAYLIGHT
TZOFFSETFROM:+0100
TZOFFSETTO:+0200
TZNAME:CEST
DTSTART:20240331T010000
END:DAYLIGHT
BEGIN:STANDARD
TZOFFSETFROM:+0200
TZOFFSETTO:+0100
TZNAME:CET
DTSTART:20241027T010000
END:STANDARD
END:VTIMEZONE
BEGIN:VEVENT
DTSTART;TZID=Europe/Madrid:20230308T130000
DTEND;TZID=Europe/Madrid:20230308T130000
DTSTAMP:20260422T152056
CREATED:20230302T172449Z
LAST-MODIFIED:20230308T090242Z
UID:27305-1678280400-1678280400@www.idisantiago.es
SUMMARY:Miércoles IDIS (08/03/2023)
DESCRIPTION:“High FABP4\, associated with low-voltage area\, increases the epicardial fibrosis and its glucose metabolism” \nby Xocas Vázquez \n“Implementación de la medicina personalizada en la terapia antipsicótica” \nby Cristina Mondelo García \nDescarga el programa de la jornada aquí \nPara seguirlo de forma online puedes hacerlo a través del link
URL:https://www.idisantiago.es/event/miercoles-idis-08-03-2023/
LOCATION:Anfiteatro IDIS. Laboratorios IDIS\, planta -2. Hospital Clínico Universitario de Santiago de Compostela\, Travesa da Choupana\, S/N\, Santiago de Compostela\, A Coruña\, 15706\, España
CATEGORIES:Miércoles IDIS
ATTACH;FMTTYPE=image/jpeg:https://www.idisantiago.es/wp-content/uploads/2023/03/MercoresIDIS.2023.03.08.jpg
END:VEVENT
END:VCALENDAR