BEGIN:VCALENDAR
VERSION:2.0
PRODID:-//Instituto de Investigación Sanitaria de Santiago de Compostela - ECPv6.15.20//NONSGML v1.0//EN
CALSCALE:GREGORIAN
METHOD:PUBLISH
X-WR-CALNAME:Instituto de Investigación Sanitaria de Santiago de Compostela
X-ORIGINAL-URL:https://www.idisantiago.es
X-WR-CALDESC:Eventos para Instituto de Investigación Sanitaria de Santiago de Compostela
REFRESH-INTERVAL;VALUE=DURATION:PT1H
X-Robots-Tag:noindex
X-PUBLISHED-TTL:PT1H
BEGIN:VTIMEZONE
TZID:Europe/Madrid
BEGIN:DAYLIGHT
TZOFFSETFROM:+0100
TZOFFSETTO:+0200
TZNAME:CEST
DTSTART:20210328T010000
END:DAYLIGHT
BEGIN:STANDARD
TZOFFSETFROM:+0200
TZOFFSETTO:+0100
TZNAME:CET
DTSTART:20211031T010000
END:STANDARD
BEGIN:DAYLIGHT
TZOFFSETFROM:+0100
TZOFFSETTO:+0200
TZNAME:CEST
DTSTART:20220327T010000
END:DAYLIGHT
BEGIN:STANDARD
TZOFFSETFROM:+0200
TZOFFSETTO:+0100
TZNAME:CET
DTSTART:20221030T010000
END:STANDARD
BEGIN:DAYLIGHT
TZOFFSETFROM:+0100
TZOFFSETTO:+0200
TZNAME:CEST
DTSTART:20230326T010000
END:DAYLIGHT
BEGIN:STANDARD
TZOFFSETFROM:+0200
TZOFFSETTO:+0100
TZNAME:CET
DTSTART:20231029T010000
END:STANDARD
END:VTIMEZONE
BEGIN:VEVENT
DTSTART;TZID=Europe/Madrid:20220111T190000
DTEND;TZID=Europe/Madrid:20221213T200000
DTSTAMP:20260426T061934
CREATED:20220420T113445Z
LAST-MODIFIED:20220531T182928Z
UID:22915-1641927600-1670961600@www.idisantiago.es
SUMMARY:CARDIOCHUS Academy
DESCRIPTION:Programa de Formación Continuada en Cardiología. \n“Aspectos clave en Patología Cardiovascular” \nDescargar: PROGRAMA CARDIOCHUS Academy
URL:https://www.idisantiago.es/event/cardiochus-academy/
LOCATION:Evento online
CATEGORIES:Formación
END:VEVENT
BEGIN:VEVENT
DTSTART;VALUE=DATE:20220503
DTEND;VALUE=DATE:20220610
DTSTAMP:20260426T061934
CREATED:20220408T124252Z
LAST-MODIFIED:20220502T153719Z
UID:22358-1651536000-1654819199@www.idisantiago.es
SUMMARY:IV Edición Minipíldoras formativas de actualización en Farmacia Hospitalaria: puesta al día
DESCRIPTION:El Instituto de Investigación Sanitaria de Santiago de Compostela (IDIS) organiza la «IV Edición Minipíldoras formativas de actualización en Farmacia Hospitalaria: puesta al día»\, que tiene lugar entre el 03 de mayo al 9 de junio de 2022 en el Complexo Hospitalario Universitario de Santiago de Compostela. \nEl objetivo de las jornadas será reforzar los conocimientos de los profesionales sanitarios en el ámbito de la farmacoterapia \nDescarga el programa completo: IV Edición Minipíldoras formativas de actualización en Farmacia Hospitalaria: puesta al día
URL:https://www.idisantiago.es/event/iv-edicion-minipildoras-formativas-de-actualizacion-en-farmacia-hospitalaria-puesta-al-dia/
LOCATION:A Coruña
CATEGORIES:Formación
ATTACH;FMTTYPE=image/png:https://www.idisantiago.es/wp-content/uploads/2022/04/PildorasFarmaciaHospitalaria.png
END:VEVENT
BEGIN:VEVENT
DTSTART;TZID=Europe/Madrid:20220603T120000
DTEND;TZID=Europe/Madrid:20220603T133000
DTSTAMP:20260426T061934
CREATED:20220602T145441Z
LAST-MODIFIED:20220602T145441Z
UID:23677-1654257600-1654263000@www.idisantiago.es
SUMMARY:TRAPPC9 gene causing intellectual disability and autism
DESCRIPTION:3 de junio de 2022.  Anfiteatro IDIS \nPONENTE: Neveen Ashaat \nIntellectual disability (ID) is a common neurodevelopmental disorder that can occur by itself (non-syndromic ID) or in combination with other clinical manifestations (syndromic ID). The Trafficking Protein Particle Complex subunit 9 (TRAPPC9) gene is one of several linked to both types of ID and autism. By using whole-exome sequencing (WES)\, we found a homozygous transition (c.2635C > T) in exon 16 of the TRAPPC9 gene. \nCartel de la jornada
URL:https://www.idisantiago.es/event/trappc9-gene-causing-intellectual-disability-and-autism/
LOCATION:Anfiteatro IDIS. Laboratorios IDIS\, planta -2. Hospital Clínico Universitario de Santiago de Compostela\, Travesa da Choupana\, S/N\, Santiago de Compostela\, A Coruña\, 15706\, España
CATEGORIES:Formación
ATTACH;FMTTYPE=image/jpeg:https://www.idisantiago.es/wp-content/uploads/2022/06/Charla.Neveen-Ashaat.jpg
END:VEVENT
BEGIN:VEVENT
DTSTART;TZID=Europe/Madrid:20220609T113000
DTEND;TZID=Europe/Madrid:20220609T140000
DTSTAMP:20260426T061934
CREATED:20220601T130628Z
LAST-MODIFIED:20220602T112116Z
UID:23618-1654774200-1654783200@www.idisantiago.es
SUMMARY:Seminario Tecnologías nanoString
DESCRIPTION:El grupo GENVIP del Instituto de Investigación Sanitaria de Santiago de Compostela (IDIS) junto con Diagnóstica Longwood organizan el 9 de junio el «Seminario Tecnologías nanoString». El evento será de 11:30 a 14:00h en el Hospital Clínico Universitario de Santiago (salón de actos 1\, planta 0). \nEs importante señalar que aquellas personas que quieran asistir a dicho evento deberán registrarse previamente. Pueden hacerlo pinchando AQUÍ. \n 
URL:https://www.idisantiago.es/event/seminario-tecnologias-nanostring/
LOCATION:Salón de Actos 1. Hospital Clínico Universitario de Santiago de Compostela\, Rúa da Choupana\, s/n\, Santiago de Compostela\, A Coruña\, 15706\, España
CATEGORIES:Formación
ATTACH;FMTTYPE=image/jpeg:https://www.idisantiago.es/wp-content/uploads/2022/06/Seminario-nanoString.jpeg
END:VEVENT
BEGIN:VEVENT
DTSTART;TZID=Europe/Madrid:20220628T130000
DTEND;TZID=Europe/Madrid:20220628T143000
DTSTAMP:20260426T061934
CREATED:20220606T080036Z
LAST-MODIFIED:20220623T101208Z
UID:23576-1656421200-1656426600@www.idisantiago.es
SUMMARY:Seminario Innovatia 8.3
DESCRIPTION:Seminario Innovatia 8.3: Generación del conocimiento\, transferencia del mismo y emprendimiento con perspectiva de género. \n28 de junio de 2022. 13 h.  \nAnfiteatro IDIS. Hospital Clínico Universitario de Santiago de Compostela\, planta -2. \nStreaming Canal Youtube de IDIS. \nImpartida por: Eva López Barrio \nLa charla y posterior debate pretende mostrar una forma de trabajar en ciencia con perspectiva de género\, y que esa ciencia se transfiera del mismo modo. \nEl Programa Innovatia 8.3 nace en el año 2011 entre la colaboración entre el Instituto de las Mujeres y la Universidade de Santiago de Compostela. El objetivo principal es fomentar el espíritu empresarial de las mujeres en el ámbito científico-tecnológico\, además de la creación de un modelo de intervención que integre la perspectiva de género en los procesos de transferencia de conocimiento y en el proceso de creación de empresas de base tecnológica (Spin-off). \nEntre las actividades desarrolladas\, se destaca la elaboración de un manual de procedimientos dirigido al personal de apoyo al emprendimiento en OTRIs de Universidades y Centros de Investigación\, en el que se incorpora la perspectiva de género en todos los procesos a seguir\, desde el diseño del servicio\, hasta la evaluación de calidad del mismo. Esta actividad se complementa con formación específica en materia de igualdad de género dirigida a su personal técnico de estas Oficinas\, generándose una metodología de trabajo\, para la integración de la perspectiva de género en los procedimientos de apoyo en la creación de Spin-off\, que se está transfiriendo a otras Universidades y Centros de Investigación de España. \nOrganiza: Instituto de Investigación Sanitaria de Santiago de Compostela (IDIS) \nDescarga: cartel de la jornada
URL:https://www.idisantiago.es/event/innovatia-8-3-generacion-del-conocimiento-transferencia-del-mismo-e-emprendimiento-con-perspectiva-de-genero/
LOCATION:Anfiteatro IDIS. Laboratorios IDIS\, planta -2. Hospital Clínico Universitario de Santiago de Compostela\, Travesa da Choupana\, S/N\, Santiago de Compostela\, A Coruña\, 15706\, España
CATEGORIES:Formación
ATTACH;FMTTYPE=image/png:https://www.idisantiago.es/wp-content/uploads/2022/06/prueba-seminario-innovatia-2.png
END:VEVENT
END:VCALENDAR