BEGIN:VCALENDAR
VERSION:2.0
PRODID:-//Instituto de Investigación Sanitaria de Santiago de Compostela - ECPv6.15.20//NONSGML v1.0//EN
CALSCALE:GREGORIAN
METHOD:PUBLISH
X-WR-CALNAME:Instituto de Investigación Sanitaria de Santiago de Compostela
X-ORIGINAL-URL:https://www.idisantiago.es
X-WR-CALDESC:Eventos para Instituto de Investigación Sanitaria de Santiago de Compostela
REFRESH-INTERVAL;VALUE=DURATION:PT1H
X-Robots-Tag:noindex
X-PUBLISHED-TTL:PT1H
BEGIN:VTIMEZONE
TZID:Europe/Madrid
BEGIN:DAYLIGHT
TZOFFSETFROM:+0100
TZOFFSETTO:+0200
TZNAME:CEST
DTSTART:20230326T010000
END:DAYLIGHT
BEGIN:STANDARD
TZOFFSETFROM:+0200
TZOFFSETTO:+0100
TZNAME:CET
DTSTART:20231029T010000
END:STANDARD
BEGIN:DAYLIGHT
TZOFFSETFROM:+0100
TZOFFSETTO:+0200
TZNAME:CEST
DTSTART:20240331T010000
END:DAYLIGHT
BEGIN:STANDARD
TZOFFSETFROM:+0200
TZOFFSETTO:+0100
TZNAME:CET
DTSTART:20241027T010000
END:STANDARD
BEGIN:DAYLIGHT
TZOFFSETFROM:+0100
TZOFFSETTO:+0200
TZNAME:CEST
DTSTART:20250330T010000
END:DAYLIGHT
BEGIN:STANDARD
TZOFFSETFROM:+0200
TZOFFSETTO:+0100
TZNAME:CET
DTSTART:20251026T010000
END:STANDARD
END:VTIMEZONE
BEGIN:VEVENT
DTSTART;TZID=Europe/Madrid:20241211T130000
DTEND;TZID=Europe/Madrid:20241211T133000
DTSTAMP:20260426T041521
CREATED:20241216T083243Z
LAST-MODIFIED:20241216T085237Z
UID:37668-1733922000-1733923800@www.idisantiago.es
SUMMARY:Miércoles IDIS (11/12/2024)
DESCRIPTION:“Identification of novel small drugs for Rheumatoid Arthritis through high throughput drug screening”  \nby Martin Kotrulev\n \n“In vivo characterization of an arthritic model using PET/CT”  \nby Jéssica Fraga Codesido \nDescarga el programa de la jornada aquí \nPara seguirlo de forma online puedes hacerlo a través del link \n 
URL:https://www.idisantiago.es/event/miercoles-idis-11-12-2024/
LOCATION:Anfiteatro IDIS. Laboratorios IDIS\, planta -2. Hospital Clínico Universitario de Santiago de Compostela\, Travesa da Choupana\, S/N\, Santiago de Compostela\, A Coruña\, 15706\, España
CATEGORIES:Miércoles IDIS
ATTACH;FMTTYPE=image/jpeg:https://www.idisantiago.es/wp-content/uploads/2024/12/MercoresIDIS.2024.12.11-4.jpg
END:VEVENT
END:VCALENDAR