BEGIN:VCALENDAR
VERSION:2.0
PRODID:-//Instituto de Investigación Sanitaria de Santiago de Compostela - ECPv6.15.20//NONSGML v1.0//EN
CALSCALE:GREGORIAN
METHOD:PUBLISH
X-WR-CALNAME:Instituto de Investigación Sanitaria de Santiago de Compostela
X-ORIGINAL-URL:https://www.idisantiago.es/gl/
X-WR-CALDESC:Events for Instituto de Investigación Sanitaria de Santiago de Compostela
REFRESH-INTERVAL;VALUE=DURATION:PT1H
X-Robots-Tag:noindex
X-PUBLISHED-TTL:PT1H
BEGIN:VTIMEZONE
TZID:Europe/Madrid
BEGIN:DAYLIGHT
TZOFFSETFROM:+0100
TZOFFSETTO:+0200
TZNAME:CEST
DTSTART:20240331T010000
END:DAYLIGHT
BEGIN:STANDARD
TZOFFSETFROM:+0200
TZOFFSETTO:+0100
TZNAME:CET
DTSTART:20241027T010000
END:STANDARD
BEGIN:DAYLIGHT
TZOFFSETFROM:+0100
TZOFFSETTO:+0200
TZNAME:CEST
DTSTART:20250330T010000
END:DAYLIGHT
BEGIN:STANDARD
TZOFFSETFROM:+0200
TZOFFSETTO:+0100
TZNAME:CET
DTSTART:20251026T010000
END:STANDARD
BEGIN:DAYLIGHT
TZOFFSETFROM:+0100
TZOFFSETTO:+0200
TZNAME:CEST
DTSTART:20260329T010000
END:DAYLIGHT
BEGIN:STANDARD
TZOFFSETFROM:+0200
TZOFFSETTO:+0100
TZNAME:CET
DTSTART:20261025T010000
END:STANDARD
END:VTIMEZONE
BEGIN:VEVENT
DTSTART;TZID=Europe/Madrid:20250221T090000
DTEND;TZID=Europe/Madrid:20250221T200000
DTSTAMP:20260423T232629
CREATED:20241204T124253Z
LAST-MODIFIED:20250210T133818Z
UID:37533-1740128400-1740168000@www.idisantiago.es
SUMMARY:Curso de Rehabilitación Cardio-Oncológica
DESCRIPTION:La Fundación Pública Galega Instituto de Investigación Sanitaria de Santiago de Compostela (FIDIS) y el Servicio de Cardiología del CHUS presentan el 1er Curso de Rehabilitación Cardio-Oncológica que tendrá lugar el próximo 21 de febrero de 2025. \nPara consultar el programa\, pincha aquí. \nAcreditación solicitada como actividad de formación continuada para los siguientes profesionales sanitarios: Lic./Grao en Medicina\, Dip./Grao en Enfermería\, Dip./Grao en Fisioterapia y Lic./Grao en Farmacia. \nInscripción: 200 euros. El formulario de inscripción estará abierto hasta el 10 de febrero. Si se cubren las plazas se elaborará una lista de espera. \nSorry. This form is no longer available.
URL:https://www.idisantiago.es/gl/event/curso-de-rehabilitacion-cardio-oncologica/
LOCATION:Hospital Clínico Universitario de Santiago de Compostela
CATEGORIES:Formación
ATTACH;FMTTYPE=image/jpeg:https://www.idisantiago.es/wp-content/uploads/2022/10/Curso-de-rehabilitación-cardio-oncológica-scaled.jpg
END:VEVENT
END:VCALENDAR