BEGIN:VCALENDAR
VERSION:2.0
PRODID:-//Instituto de Investigación Sanitaria de Santiago de Compostela - ECPv6.15.20//NONSGML v1.0//EN
CALSCALE:GREGORIAN
METHOD:PUBLISH
X-WR-CALNAME:Instituto de Investigación Sanitaria de Santiago de Compostela
X-ORIGINAL-URL:https://www.idisantiago.es/gl/
X-WR-CALDESC:Events for Instituto de Investigación Sanitaria de Santiago de Compostela
REFRESH-INTERVAL;VALUE=DURATION:PT1H
X-Robots-Tag:noindex
X-PUBLISHED-TTL:PT1H
BEGIN:VTIMEZONE
TZID:Europe/Madrid
BEGIN:DAYLIGHT
TZOFFSETFROM:+0100
TZOFFSETTO:+0200
TZNAME:CEST
DTSTART:20240331T010000
END:DAYLIGHT
BEGIN:STANDARD
TZOFFSETFROM:+0200
TZOFFSETTO:+0100
TZNAME:CET
DTSTART:20241027T010000
END:STANDARD
BEGIN:DAYLIGHT
TZOFFSETFROM:+0100
TZOFFSETTO:+0200
TZNAME:CEST
DTSTART:20250330T010000
END:DAYLIGHT
BEGIN:STANDARD
TZOFFSETFROM:+0200
TZOFFSETTO:+0100
TZNAME:CET
DTSTART:20251026T010000
END:STANDARD
BEGIN:DAYLIGHT
TZOFFSETFROM:+0100
TZOFFSETTO:+0200
TZNAME:CEST
DTSTART:20260329T010000
END:DAYLIGHT
BEGIN:STANDARD
TZOFFSETFROM:+0200
TZOFFSETTO:+0100
TZNAME:CET
DTSTART:20261025T010000
END:STANDARD
END:VTIMEZONE
BEGIN:VEVENT
DTSTART;TZID=Europe/Madrid:20250226T130000
DTEND;TZID=Europe/Madrid:20250226T140000
DTSTAMP:20260425T211209
CREATED:20250226T105836Z
LAST-MODIFIED:20250226T105836Z
UID:39246-1740574800-1740578400@www.idisantiago.es
SUMMARY:Mércores IDIS (26/02/2025)
DESCRIPTION:“Mitochrondrial DNA modulates hypoxia signalling responses in lung adenocarcinoma”  \nby Cristina de Jesús Sen \n“Characterization of Extracellular pyrophosphate Metabolism in Blood”  \nby Juan Francisco Crespo Cerezo \nDescarga o programa da xornada aquí \nPara seguilo de forma online podes facelo a través do link
URL:https://www.idisantiago.es/gl/event/mercores-idis-26-02-2025/
LOCATION:Anfiteatro IDIS. Laboratorios IDIS\, planta -2. Hospital Clínico Universitario de Santiago de Compostela\, Travesa da Choupana\, S/N\, Santiago de Compostela\, A Coruña\, 15706\, España
CATEGORIES:Mércores IDIS
ATTACH;FMTTYPE=image/png:https://www.idisantiago.es/wp-content/uploads/2025/02/Captura-de-pantalla-2025-02-23-231800.png
END:VEVENT
END:VCALENDAR