BEGIN:VCALENDAR
VERSION:2.0
PRODID:-//Instituto de Investigación Sanitaria de Santiago de Compostela - ECPv6.15.20//NONSGML v1.0//EN
CALSCALE:GREGORIAN
METHOD:PUBLISH
X-ORIGINAL-URL:https://www.idisantiago.es/gl/
X-WR-CALDESC:Events for Instituto de Investigación Sanitaria de Santiago de Compostela
REFRESH-INTERVAL;VALUE=DURATION:PT1H
X-Robots-Tag:noindex
X-PUBLISHED-TTL:PT1H
BEGIN:VTIMEZONE
TZID:Europe/Madrid
BEGIN:DAYLIGHT
TZOFFSETFROM:+0100
TZOFFSETTO:+0200
TZNAME:CEST
DTSTART:20230326T010000
END:DAYLIGHT
BEGIN:STANDARD
TZOFFSETFROM:+0200
TZOFFSETTO:+0100
TZNAME:CET
DTSTART:20231029T010000
END:STANDARD
BEGIN:DAYLIGHT
TZOFFSETFROM:+0100
TZOFFSETTO:+0200
TZNAME:CEST
DTSTART:20240331T010000
END:DAYLIGHT
BEGIN:STANDARD
TZOFFSETFROM:+0200
TZOFFSETTO:+0100
TZNAME:CET
DTSTART:20241027T010000
END:STANDARD
BEGIN:DAYLIGHT
TZOFFSETFROM:+0100
TZOFFSETTO:+0200
TZNAME:CEST
DTSTART:20250330T010000
END:DAYLIGHT
BEGIN:STANDARD
TZOFFSETFROM:+0200
TZOFFSETTO:+0100
TZNAME:CET
DTSTART:20251026T010000
END:STANDARD
END:VTIMEZONE
BEGIN:VEVENT
DTSTART;VALUE=DATE:20240625
DTEND;VALUE=DATE:20241002
DTSTAMP:20260422T070308
CREATED:20240603T075212Z
LAST-MODIFIED:20240617T102337Z
UID:34473-1719273600-1727827199@www.idisantiago.es
SUMMARY:Programa Sesións de inglés técnico (pulmonary embolism)
DESCRIPTION:O Servizo de Neumoloxía do HULA e a Fundación Pública Galega Instituto de Investigación Sanitaria de Santiago organizan o Programa de Inglés técnico (Pulmonary embolism). \nO obxetivo deste programa será a posta ao día no tratamiento do tromboembolismo pulmonar\, con sesións en inglés asesoradas por un profesor nativo. \nPodedes consultar o programa completo aquí. \n  \nPonente: Dr. Luis Pérez del Llano. Xefe de Servizo de Neumoloxía do Hospital Universitario Lucus Augusti de Lugo. \nLugar: Sala de sesións do Servizo de Neumoloxía (área administrativa da 4ª planta) do Hospital Universitario Lucus Augusti. \nData e hora: diferentes sesións do 25 de xuño ao 1 de outubro\, de 8:15 a 9:00 h (para máis detalles\, consultar o programa). \nPrezo: de balde (rexistro no Servizo de Neumoloxía). \n 
URL:https://www.idisantiago.es/gl/event/programa-sesions-de-ingles-tecnico-pulmonary-embolism/
LOCATION:Hospital Universitario Lucus Augusti\, Dr. Ulises Romero\, 1\, Lugo\, Lugo\, 27003\, España
CATEGORIES:General,Formación
ATTACH;FMTTYPE=image/jpeg:https://www.idisantiago.es/wp-content/uploads/2024/06/PROGRAMA-INGLES-TECNICO-1.jpg
END:VEVENT
BEGIN:VEVENT
DTSTART;TZID=Europe/Madrid:20240708T130000
DTEND;TZID=Europe/Madrid:20240708T140000
DTSTAMP:20260422T070308
CREATED:20240703T071715Z
LAST-MODIFIED:20240703T074348Z
UID:34957-1720443600-1720447200@www.idisantiago.es
SUMMARY:Seminario: Estudo de solape xenético entre a síndrome de distrés respiratorio agudo\, a COVID-19 grave e a fibrose pulmonar
DESCRIPTION:O próximo luns\, 8 de xullo de 2024\, ás 13:00\, visitaranos Beatriz Guillén Guío\, investigadora do grupo Genetic Epidemiology da Universidade de Leicester\, que impartirá o seminario “Estudo de solape xenético entre a síndrome de distrés respiratorio agudo\, a COVID-19 grave e a fibrose pulmonar“. \n  \nTítulo do seminario: Estudo de solape xenético entre a síndrome de distrés respiratorio agudo\, a COVID-19 grave e a fibrosis pulmonar. \nResume: Algúns pacientes con COVID-19 grave desenvolven enfermidades pulmonares mortais\, como a síndrome de dificultade respiratoria aguda (ARDS) e a fibrose pulmonar (PF). Actualmente\, non existe cura para o ARDS ou a PF\, o que subliña a necesidade de realizar máis investigacións. Utilizamos enfoques de superposición xenética\, incluídas puntuacións de risco polixénico\, para identificar xenes compartidos e mecanismos biolóxicos entre PF\, ARDS e COVID-19 grave. \nRelator: Beatriz Guillén Guío\, investigadora postdoutoral bolseira coa Sir Henry Wellcome Trust no grupo Genetic Epidemiology da Universidade de Leicester. A súa investigación céntrase principalmente na xenética do ARDS\, a fibrose pulmonar idiopática (IPF) e a COVID-19 grave. Isto inclúe estudos xenéticos colaborativos a gran escala de todo o xenoma e a exploración de posibles superposiciones xenéticas entre estas tres enfermidades (ORCiD:0000-0002-3703-1738). \nData: 08/07/2024\, ás 13:00 h. \nUbicación: Anfiteatro do IDIS\, planta -2\, Hospital Clínico Universitario de Santiago de Compostela.
URL:https://www.idisantiago.es/gl/event/charla-estudio-de-solape-genetico-entre-el-sindrome-de-distres-respiratorio-agudo-el-covid-19-grave-y-la-fibrosis-pulmonar/
LOCATION:Anfiteatro IDIS. Laboratorios IDIS\, planta -2. Hospital Clínico Universitario de Santiago de Compostela\, Travesa da Choupana\, S/N\, Santiago de Compostela\, A Coruña\, 15706\, España
CATEGORIES:General,Formación
ATTACH;FMTTYPE=image/jpeg:https://www.idisantiago.es/wp-content/uploads/2024/07/idis_portfolio.jpg
END:VEVENT
END:VCALENDAR