BEGIN:VCALENDAR
VERSION:2.0
PRODID:-//Instituto de Investigación Sanitaria de Santiago de Compostela - ECPv6.15.20//NONSGML v1.0//EN
CALSCALE:GREGORIAN
METHOD:PUBLISH
X-ORIGINAL-URL:https://www.idisantiago.es/gl/
X-WR-CALDESC:Events for Instituto de Investigación Sanitaria de Santiago de Compostela
REFRESH-INTERVAL;VALUE=DURATION:PT1H
X-Robots-Tag:noindex
X-PUBLISHED-TTL:PT1H
BEGIN:VTIMEZONE
TZID:Europe/Madrid
BEGIN:DAYLIGHT
TZOFFSETFROM:+0100
TZOFFSETTO:+0200
TZNAME:CEST
DTSTART:20240331T010000
END:DAYLIGHT
BEGIN:STANDARD
TZOFFSETFROM:+0200
TZOFFSETTO:+0100
TZNAME:CET
DTSTART:20241027T010000
END:STANDARD
BEGIN:DAYLIGHT
TZOFFSETFROM:+0100
TZOFFSETTO:+0200
TZNAME:CEST
DTSTART:20250330T010000
END:DAYLIGHT
BEGIN:STANDARD
TZOFFSETFROM:+0200
TZOFFSETTO:+0100
TZNAME:CET
DTSTART:20251026T010000
END:STANDARD
BEGIN:DAYLIGHT
TZOFFSETFROM:+0100
TZOFFSETTO:+0200
TZNAME:CEST
DTSTART:20260329T010000
END:DAYLIGHT
BEGIN:STANDARD
TZOFFSETFROM:+0200
TZOFFSETTO:+0100
TZNAME:CET
DTSTART:20261025T010000
END:STANDARD
END:VTIMEZONE
BEGIN:VEVENT
DTSTART;TZID=Europe/Madrid:20251001T130000
DTEND;TZID=Europe/Madrid:20251001T140000
DTSTAMP:20260425T212517
CREATED:20250929T092545Z
LAST-MODIFIED:20250930T061605Z
UID:42103-1759323600-1759327200@www.idisantiago.es
SUMMARY:Miércoles IDIS (01/10/2025)
DESCRIPTION:“Implementation of a national pilot program for genetic newborn sreening”  \nby Lluis Miquel Lis López \n“Analysis of changes in the proteomic profile of patients treated with topical tacrolimus”  \nby Andrea Cuartero Martínez \nDescarga el programa de la jornada aquí \nPara seguirlo de forma online puedes hacerlo a través del link \n 
URL:https://www.idisantiago.es/gl/?post_type=tribe_events&p=42105
LOCATION:Anfiteatro IDIS. Laboratorios IDIS\, planta -2. Hospital Clínico Universitario de Santiago de Compostela\, Travesa da Choupana\, S/N\, Santiago de Compostela\, A Coruña\, 15706\, España
CATEGORIES:Mércores IDIS
ATTACH;FMTTYPE=image/png:https://www.idisantiago.es/wp-content/uploads/2025/09/MercoresIDIS.2025.10.01.png
END:VEVENT
BEGIN:VEVENT
DTSTART;TZID=Europe/Madrid:20251015T130000
DTEND;TZID=Europe/Madrid:20251015T133000
DTSTAMP:20260425T212517
CREATED:20251110T092520Z
LAST-MODIFIED:20251110T092534Z
UID:43136-1760533200-1760535000@www.idisantiago.es
SUMMARY:Mércores IDIS (15/10/2025)
DESCRIPTION:“Transcriptomic and proteomic data integration in nephropathic cystinosis”  \nby Diana Carolina Castro Fernández \nDescarga o programa da xornada aquí \nPara seguilo de forma online podes facelo a través da ligazón
URL:https://www.idisantiago.es/gl/event/mercores-idis-15-10-2025/
LOCATION:Anfiteatro IDIS. Laboratorios IDIS\, planta -2. Hospital Clínico Universitario de Santiago de Compostela\, Travesa da Choupana\, S/N\, Santiago de Compostela\, A Coruña\, 15706\, España
CATEGORIES:Mércores IDIS
ATTACH;FMTTYPE=image/jpeg:https://www.idisantiago.es/wp-content/uploads/2025/11/MercoresIDIS2025.10.15.jpg
END:VEVENT
BEGIN:VEVENT
DTSTART;TZID=Europe/Madrid:20251022T130000
DTEND;TZID=Europe/Madrid:20251022T133000
DTSTAMP:20260425T212517
CREATED:20251020T084456Z
LAST-MODIFIED:20251020T084604Z
UID:42601-1761138000-1761139800@www.idisantiago.es
SUMMARY:Mércores IDIS (22/10/2025)
DESCRIPTION:“Potential Proteomic Biomarkers Predictive of Response to Anti-Angiogenic Treatment Switch in Age-Related Macular Degeneration”  \nby Antonio Cañizo Outeiriño \nDescarga o programa da xornada aquí \nPara seguilo de forma online podes facelo a través da ligazón
URL:https://www.idisantiago.es/gl/event/mercores-idis-22-10-2025/
LOCATION:Anfiteatro IDIS. Laboratorios IDIS\, planta -2. Hospital Clínico Universitario de Santiago de Compostela\, Travesa da Choupana\, S/N\, Santiago de Compostela\, A Coruña\, 15706\, España
CATEGORIES:Mércores IDIS
ATTACH;FMTTYPE=image/jpeg:https://www.idisantiago.es/wp-content/uploads/2025/10/MercoresIDIS2025.10.22.jpg
END:VEVENT
BEGIN:VEVENT
DTSTART;TZID=Europe/Madrid:20251029T130000
DTEND;TZID=Europe/Madrid:20251029T133000
DTSTAMP:20260425T212517
CREATED:20251027T094126Z
LAST-MODIFIED:20251027T122801Z
UID:42715-1761742800-1761744600@www.idisantiago.es
SUMMARY:Miércoles IDIS (29/10/2025)
DESCRIPTION:“Potential Proteomic Biomarkers Predictive of Response to Anti-Angiogenic Treatment Switch in Age-Related Macular Degeneration”  \nby Lorena Zas Veiga \nDescarga el programa de la jornada aquí \nPara seguirlo de forma online puedes hacerlo a través del link
URL:https://www.idisantiago.es/gl/event/miercoles-idis-29-10-2025/
LOCATION:Anfiteatro IDIS. Laboratorios IDIS\, planta -2. Hospital Clínico Universitario de Santiago de Compostela\, Travesa da Choupana\, S/N\, Santiago de Compostela\, A Coruña\, 15706\, España
CATEGORIES:Mércores IDIS
ATTACH;FMTTYPE=image/jpeg:https://www.idisantiago.es/wp-content/uploads/2025/10/MercoresIDIS2025.10.29.jpg
END:VEVENT
END:VCALENDAR