BEGIN:VCALENDAR
VERSION:2.0
PRODID:-//Instituto de Investigación Sanitaria de Santiago de Compostela - ECPv6.15.20//NONSGML v1.0//EN
CALSCALE:GREGORIAN
METHOD:PUBLISH
X-WR-CALNAME:Instituto de Investigación Sanitaria de Santiago de Compostela
X-ORIGINAL-URL:https://www.idisantiago.es/gl/
X-WR-CALDESC:Events for Instituto de Investigación Sanitaria de Santiago de Compostela
REFRESH-INTERVAL;VALUE=DURATION:PT1H
X-Robots-Tag:noindex
X-PUBLISHED-TTL:PT1H
BEGIN:VTIMEZONE
TZID:Europe/Madrid
BEGIN:DAYLIGHT
TZOFFSETFROM:+0100
TZOFFSETTO:+0200
TZNAME:CEST
DTSTART:20240331T010000
END:DAYLIGHT
BEGIN:STANDARD
TZOFFSETFROM:+0200
TZOFFSETTO:+0100
TZNAME:CET
DTSTART:20241027T010000
END:STANDARD
BEGIN:DAYLIGHT
TZOFFSETFROM:+0100
TZOFFSETTO:+0200
TZNAME:CEST
DTSTART:20250330T010000
END:DAYLIGHT
BEGIN:STANDARD
TZOFFSETFROM:+0200
TZOFFSETTO:+0100
TZNAME:CET
DTSTART:20251026T010000
END:STANDARD
BEGIN:DAYLIGHT
TZOFFSETFROM:+0100
TZOFFSETTO:+0200
TZNAME:CEST
DTSTART:20260329T010000
END:DAYLIGHT
BEGIN:STANDARD
TZOFFSETFROM:+0200
TZOFFSETTO:+0100
TZNAME:CET
DTSTART:20261025T010000
END:STANDARD
END:VTIMEZONE
BEGIN:VEVENT
DTSTART;TZID=Europe/Madrid:20251203T130000
DTEND;TZID=Europe/Madrid:20251203T140000
DTSTAMP:20260422T141615
CREATED:20251201T093722Z
LAST-MODIFIED:20251201T093722Z
UID:43444-1764766800-1764770400@www.idisantiago.es
SUMMARY:Mércores IDIS (03/12/2025)
DESCRIPTION:«Chemical Adaptation of iGluSnFR for Glutamate-Specific MRI Detection»  \nby Marcos Bazarra Barreiros \n«Development of innovative techniques for the characterization of extracellular vesicles from adipose tissue: 3D models»  \nby Adriana Estévez López \nDescarga o programa da xornada aquí \nPara seguilo de forma online podes facelo a través da ligazón
URL:https://www.idisantiago.es/gl/event/mercores-idis-03-12-2025/
LOCATION:Anfiteatro IDIS. Laboratorios IDIS\, planta -2. Hospital Clínico Universitario de Santiago de Compostela\, Travesa da Choupana\, S/N\, Santiago de Compostela\, A Coruña\, 15706\, España
CATEGORIES:Mércores IDIS
ATTACH;FMTTYPE=image/png:https://www.idisantiago.es/wp-content/uploads/2025/12/MercoresIDIS2025.12.03.png
END:VEVENT
BEGIN:VEVENT
DTSTART;TZID=Europe/Madrid:20251210T130000
DTEND;TZID=Europe/Madrid:20251210T140000
DTSTAMP:20260422T141615
CREATED:20251209T125426Z
LAST-MODIFIED:20251215T070610Z
UID:43637-1765371600-1765375200@www.idisantiago.es
SUMMARY:Miércoles IDIS IDIS (10/12/2025)
DESCRIPTION:«Cell membrane-based nanodelivery systems»  \nby Teresa Abengoza Bello \n«Vessel-on-a-chip: a platform to study the role of the altered mechanosensing in the diabetic endothelial dysfunction»  \nby Laura Vázquez Vázquez \nDescarga el programa de la jornada aquí \nPara seguirlo de forma online puedes hacerlo a través del link \n  \n 
URL:https://www.idisantiago.es/gl/event/mercores-idis-10-12-2025/
LOCATION:Anfiteatro IDIS. Laboratorios IDIS\, planta -2. Hospital Clínico Universitario de Santiago de Compostela\, Travesa da Choupana\, S/N\, Santiago de Compostela\, A Coruña\, 15706\, España
CATEGORIES:Mércores IDIS
ATTACH;FMTTYPE=image/png:https://www.idisantiago.es/wp-content/uploads/2025/12/MercoresIDIS2025.12.10.png
END:VEVENT
BEGIN:VEVENT
DTSTART;TZID=Europe/Madrid:20251217T130000
DTEND;TZID=Europe/Madrid:20251217T133000
DTSTAMP:20260422T141615
CREATED:20251215T075308Z
LAST-MODIFIED:20251215T075322Z
UID:43694-1765976400-1765978200@www.idisantiago.es
SUMMARY:Mércores IDIS (17/12/2025)
DESCRIPTION:«Prediction of cardiotoxicity risk in cardio-oncology units: the value of genetics»  \nby Nuria López Trigo \nDescarga o programa da xornada aquí \nPara seguilo de forma online podes facelo a través da ligazón
URL:https://www.idisantiago.es/gl/event/mercores-idis-17-12-2025/
LOCATION:Anfiteatro IDIS. Laboratorios IDIS\, planta -2. Hospital Clínico Universitario de Santiago de Compostela\, Travesa da Choupana\, S/N\, Santiago de Compostela\, A Coruña\, 15706\, España
CATEGORIES:Mércores IDIS
ATTACH;FMTTYPE=image/png:https://www.idisantiago.es/wp-content/uploads/2025/12/MercoresIDIS2025.12.17.png
END:VEVENT
END:VCALENDAR