BEGIN:VCALENDAR
VERSION:2.0
PRODID:-//Instituto de Investigación Sanitaria de Santiago de Compostela - ECPv6.15.20//NONSGML v1.0//EN
CALSCALE:GREGORIAN
METHOD:PUBLISH
X-ORIGINAL-URL:https://www.idisantiago.es/gl/
X-WR-CALDESC:Events for Instituto de Investigación Sanitaria de Santiago de Compostela
REFRESH-INTERVAL;VALUE=DURATION:PT1H
X-Robots-Tag:noindex
X-PUBLISHED-TTL:PT1H
BEGIN:VTIMEZONE
TZID:Europe/Madrid
BEGIN:DAYLIGHT
TZOFFSETFROM:+0100
TZOFFSETTO:+0200
TZNAME:CEST
DTSTART:20230326T010000
END:DAYLIGHT
BEGIN:STANDARD
TZOFFSETFROM:+0200
TZOFFSETTO:+0100
TZNAME:CET
DTSTART:20231029T010000
END:STANDARD
BEGIN:DAYLIGHT
TZOFFSETFROM:+0100
TZOFFSETTO:+0200
TZNAME:CEST
DTSTART:20240331T010000
END:DAYLIGHT
BEGIN:STANDARD
TZOFFSETFROM:+0200
TZOFFSETTO:+0100
TZNAME:CET
DTSTART:20241027T010000
END:STANDARD
BEGIN:DAYLIGHT
TZOFFSETFROM:+0100
TZOFFSETTO:+0200
TZNAME:CEST
DTSTART:20250330T010000
END:DAYLIGHT
BEGIN:STANDARD
TZOFFSETFROM:+0200
TZOFFSETTO:+0100
TZNAME:CET
DTSTART:20251026T010000
END:STANDARD
END:VTIMEZONE
BEGIN:VEVENT
DTSTART;VALUE=DATE:20240205
DTEND;VALUE=DATE:20240425
DTSTAMP:20260423T104435
CREATED:20240118T123730Z
LAST-MODIFIED:20240118T124210Z
UID:31847-1707091200-1714003199@www.idisantiago.es
SUMMARY:Reimagina la ciencia – 2024
DESCRIPTION:O IDIS participa neste programa para levar á aula os contidos máis relevantes sobre ensaios clínicos a través da aprendizaxe por proxectos. O alumnado xera as súas propias pezas artísticas audiovisuais falando de ensaios clínicos. \nPodes aprender máis sobre Reimagine Science neste vídeo\, dos seus protagonistas! \nCon esta formación poderás achegar á aula un proceso pedagóxico co que ensinar ao teu alumnado conceptos do currículo educativo relacionados cos ensaios clínicos\, habilidades para a síntese e exposición oral de ideas complexas de forma creativa e habilidades TIC para o difusión de conceptos clave.a través dos medios dixitais. \nO programa está estruturado en 3 pasos. \nPrimeiro: Asiste ao espectáculo de monólogos científicos. \nO grupo Big Van Ciencia ofrece un espectáculo fresco e divertido co que achegará ao alumnado os conceptos chave dos ensaios clínicos.\nOs espectáculos realizaranse os días 5\, 6 e 7 de febreiro en VIGO\, SANTIAGO DE COMPOSTELA e A CORUÑA respectivamente ás 10:00 e ás 12:00. \nVIGO: Salón de Actos do Hospital Álvaro Cunqueiro – Estrada de Clara Campoamor\, 341\, 36312 Vigo\, Pontevedra /  SANTIAGO: Salón de Actos da Consellería de Sanidade – San Lázaro\, s/n – 15781 Santiago de Compostela A CORUÑA: Sala da Fundación Barrié – Rúa Cantón Grande\, 9\, 15003 A Coruña \n‍Apúntate de forma gratuita cumplimentando o formulario. \nCONSULTA AS BASES \nSegundo: Prepara vídeos científico-artísticos cos teus alumnos falando de ensaios clínicos. \nCon esta formación poderás achegar á aula un proceso pedagóxico co que ensinar ao teu alumnado conceptos do currículo educativo relacionados cos ensaios clínicos\, habilidades para a síntese e exposición oral de ideas complexas de forma creativa e habilidades TIC para o difusión de conceptos clave.a través dos medios dixitais.\nConsta de 3 módulos: \n• Utilización de ferramentas educativas dixitais\, que podes empregar nas túas clases e que o teu alumnado poderá utilizar para preparar os seus vídeos.\n• Contidos relevantes sobre ensaios clínicos e como relacionalos co currículo educativo\, para que poidas avanzar no temario e que os teus alumnos aprendan os conceptos clave para incluír nos seus vídeos.\n• Selección de contidos e adaptación ao público mediante enfoques artístico-tecnolóxicos\, para xerar vídeos emocionantes e didácticos que sorprenden a todos. \nAxudaránche a guiar aos teus estudantes na creación de vídeos científico-artísticos que traten sobre ensaios clínicos. É totalmente asíncrono\, polo que podes facelo cando máis che conveña.\nResolve todas as túas dúbidas na sesión en directo online que terá lugar o 21 de febreiro de 16:00 a 18:00 horas. \nTerceiro: Enviar os vídeos dos alumnos. \nUnha vez que o alumnado se gravase en vídeo\, deberá subirse a YouTube\, Vimeo\, Drive ou calquera outra plataforma dixital. É o profesor quen debe inscribir o seu alumnado enviando o vídeo ou vídeos coa seguinte información: \n• A través dun correo electrónico a info@bigvanciencia.com\n• Coa ligazón de visualización de vídeo\n• Co título do vídeo\, o nome do profesorado\, un teléfono de contacto e o nome do centro educativo. \nTes ata o venres 22 de marzo de 2024 para enviar os teus vídeos \nGALA FINAL DE REIMAXINAR A CIENCIA \nUnha vez recibidas as propostas científico-artísticas\, procederase á selección dos vídeos finalistas\, que participarán na “Gala Científica de Reimagina la Ciencia Galicia 2024”\nOs vídeos seleccionados presentaranse en directo na gala conducida por Big Van Ciencia que terá lugar o 24 de abril de 2024\, Salón de Actos da Consellería de Sanidade (San Lázaro\, s/n – 15781 Santiago de Compostela). Un xurado composto por membros da comunidade cultural\, educativa e científica elixirá o vídeo gañador. \nA gala terá un formato mixto: Presencial\, onde se convidará ao alumnado dos centros educativos finalistas. Por streaming\, emitido simultaneamente\, para que calquera centro educativo de Galicia poida gozar da gala. Deste xeito\, ofrecerase a posibilidade de participar no evento aos centros educativos de toda Galicia.
URL:https://www.idisantiago.es/gl/event/reimagina-la-ciencia-2024/
LOCATION:Consellería de Sanidade\, Salón de Actos. Consellería de Sanidade. San Lázaro s/n\, 15703.\, Santiago de Compostela\, A Coruña\, 15707
CATEGORIES:General,Formación,Divulgación
ATTACH;FMTTYPE=image/jpeg:https://www.idisantiago.es/wp-content/uploads/2024/01/ReimaginaLaCiencia2024.jpg
END:VEVENT
BEGIN:VEVENT
DTSTART;TZID=Europe/Madrid:20240306T100000
DTEND;TZID=Europe/Madrid:20240306T133000
DTSTAMP:20260423T104435
CREATED:20240531T104731Z
LAST-MODIFIED:20240531T104731Z
UID:34439-1709719200-1709731800@www.idisantiago.es
SUMMARY:O Macías o Namorado de Padrón visita o IDIS
DESCRIPTION:O próximo 6 de marzo recibiremos no IDIS a parte do alumnado do Macías o Namorado de Padrón.
URL:https://www.idisantiago.es/gl/event/o-macias-o-namorado-de-padron-visita-o-idis/
LOCATION:Anfiteatro IDIS. Laboratorios IDIS\, planta -2. Hospital Clínico Universitario de Santiago de Compostela\, Travesa da Choupana\, S/N\, Santiago de Compostela\, A Coruña\, 15706\, España
CATEGORIES:Divulgación,Visitas divulgación
ATTACH;FMTTYPE=image/jpeg:https://www.idisantiago.es/wp-content/uploads/2021/11/idis_portfolio.jpg
END:VEVENT
BEGIN:VEVENT
DTSTART;VALUE=DATE:20240307
DTEND;VALUE=DATE:20240308
DTSTAMP:20260423T104435
CREATED:20240301T144036Z
LAST-MODIFIED:20240301T150019Z
UID:32429-1709769600-1709855999@www.idisantiago.es
SUMMARY:III Curso Galego en Gastroenteroloxía\, Hepatoloxía e Nutrición Pediátrica
DESCRIPTION:III Curso Gallego en Gastroenteroloxía\, Hepatoloxía e Nutrición Pediátrica \nLugar:  Hospital Clínico Universitario de Santiago de Compostela. Aula 1. Andar 0. Travesa da Choupana\, s/n. Santiago de Compostela \nData: 07/03/2024 \nDirección: Profesora Rosaura Leis Trabazo \nDescarga o boletín de inscripción aquí. Enviar por e-mail debidamente cumprimentado a: secretaria.ped.chus@sergas.es \nConsulta o programa da xornada aquí \nPara máis información: Fernanda Terrón; teléfono: 681 228 535; correo electrónico: fernanda.terrón@es.nestle.com
URL:https://www.idisantiago.es/gl/event/iii-curso-gallego-en-gastroenteroloxia-hepatoloxia-e-nutricion-pediatrica/
LOCATION:Salón de Actos 1. Hospital Clínico Universitario de Santiago de Compostela\, Rúa da Choupana\, s/n\, Santiago de Compostela\, A Coruña\, 15706\, España
CATEGORIES:Formación
ATTACH;FMTTYPE=image/jpeg:https://www.idisantiago.es/wp-content/uploads/2024/03/Programa-III-Curso-gallego-de-nutricioin-def_page-0001.jpg
END:VEVENT
BEGIN:VEVENT
DTSTART;TZID=Europe/Madrid:20240319T130000
DTEND;TZID=Europe/Madrid:20240319T140000
DTSTAMP:20260423T104435
CREATED:20240227T083514Z
LAST-MODIFIED:20240305T083058Z
UID:32394-1710853200-1710856800@www.idisantiago.es
SUMMARY:Experiencias emprendedoras: LINCBiotech
DESCRIPTION:Neste ciclo de charlas\, exploraremos os desafíos\, triunfos e leccións aprendidas directamente de persoal investigador emprendedor que se animaron a construír os seus propios negocios. Desde a concepción da idea ata a realidade do día a día no mundo empresarial\, cada historia ofrece unha visión única e valiosa. \nO 19 de marzo ás 13h no Anfiteatro IDIS acompañaranos Tomás Sobrino para contarnos a súa propia experiencia coa creación de LINCBiotech e os servizos que ofrece. \nConsulta o cartel da xornada aquí \nAgardámoste!
URL:https://www.idisantiago.es/gl/event/experiencias-emprendedoras-lincbiotech/
LOCATION:Anfiteatro IDIS. Laboratorios IDIS\, planta -2. Hospital Clínico Universitario de Santiago de Compostela\, Travesa da Choupana\, S/N\, Santiago de Compostela\, A Coruña\, 15706\, España
CATEGORIES:Formación
ATTACH;FMTTYPE=image/jpeg:https://www.idisantiago.es/wp-content/uploads/2024/03/Experiencias-emprendedoras_Linc.jpg
END:VEVENT
BEGIN:VEVENT
DTSTART;TZID=Europe/Madrid:20240320T130000
DTEND;TZID=Europe/Madrid:20240320T140000
DTSTAMP:20260423T104435
CREATED:20240314T072540Z
LAST-MODIFIED:20240314T072540Z
UID:32518-1710939600-1710943200@www.idisantiago.es
SUMMARY:Mércores IDIS (20/03/2024)
DESCRIPTION:“Semaglutide modulates adipogenic differentiation and extracellular acidification in epicardial (EAT) and subcutaneous (SAT) adipose tissue stromal cells from patients with cardiovascular disease”  \nby Rumeysa Basdas \n“Unlocking the potential of circulating tumor cells: Insights from single cell analysis to functional characterization” \nby Cristóbal Fernández Santiago \nDescarga o programa da xornada aquí \nPara seguilo de forma online podes facelo a través do link
URL:https://www.idisantiago.es/gl/event/mercores-idis-20-03-2024/
LOCATION:Anfiteatro IDIS. Laboratorios IDIS\, planta -2. Hospital Clínico Universitario de Santiago de Compostela\, Travesa da Choupana\, S/N\, Santiago de Compostela\, A Coruña\, 15706\, España
CATEGORIES:Mércores IDIS
ATTACH;FMTTYPE=image/jpeg:https://www.idisantiago.es/wp-content/uploads/2024/03/MercoresIDIS.20.03.2024.jpg
END:VEVENT
BEGIN:VEVENT
DTSTART;TZID=Europe/Madrid:20240320T170000
DTEND;TZID=Europe/Madrid:20240320T200000
DTSTAMP:20260423T104435
CREATED:20240315T142257Z
LAST-MODIFIED:20240315T142257Z
UID:32540-1710954000-1710964800@www.idisantiago.es
SUMMARY:REUNIÓN Biomarcadores en el seguimiento de la EM
DESCRIPTION:20 de marzo de 2024 – 17:00 h – 20:00 h. \nSalón de actos 2\, Planta 0. Hospital Clínico Universitario de Santiago de Compostela \nModera: Dr. JM Prieto González \n17.00-17.30: Criterios diagnósticos de la EM.   Dr. F.J. Naveiro Soneira. Complexo Hospitalario Universitario de Santiago \n17.45-18.15: Seguimiento de la EM. Dr. M Alberte Woodward. Complejo Hospitalario Universitario de Santiago \n18.30-19.00: Nuevos Biomarcadores en la EM. Dr. R. Agís Balboa. Instituto de Investigación Sanitaria de Santiago \n19.15-19.30: DISCUSIÓN \n19.30: Conclusiones y cierre. Dr. José Mª Prieto González. Complejo Hospitalario Universitario de Santiago \nConsulta el cartel de la jornada aquí. \nPuedes seguirla de forma online aquí.
URL:https://www.idisantiago.es/gl/?post_type=tribe_events&p=32541
LOCATION:Salón de Actos 2. Hospital Clínico Universitario de Santiago de Compostela\, TRAVESA DA CHOUPANA\, S/N\, Santiago de Compostela\, España
CATEGORIES:Formación
ATTACH;FMTTYPE=image/jpeg:https://www.idisantiago.es/wp-content/uploads/2024/03/JornadaInformativa.Biomarcadores.2024.20.03.jpg
END:VEVENT
BEGIN:VEVENT
DTSTART;TZID=Europe/Madrid:20240322T120000
DTEND;TZID=Europe/Madrid:20240322T133000
DTSTAMP:20260423T104436
CREATED:20240531T103439Z
LAST-MODIFIED:20240531T103439Z
UID:34411-1711108800-1711114200@www.idisantiago.es
SUMMARY:O IES Cacheiras visita o IDIS
DESCRIPTION:O próximo 22 de marzo recibiremos no IDIS a parte do alumnado do IES Cacheiras.
URL:https://www.idisantiago.es/gl/event/o-ies-cacheiras-visita-o-idis/
LOCATION:Anfiteatro IDIS. Laboratorios IDIS\, planta -2. Hospital Clínico Universitario de Santiago de Compostela\, Travesa da Choupana\, S/N\, Santiago de Compostela\, A Coruña\, 15706\, España
CATEGORIES:Visitas divulgación
ATTACH;FMTTYPE=image/jpeg:https://www.idisantiago.es/wp-content/uploads/2021/11/idis_portfolio.jpg
END:VEVENT
END:VCALENDAR