BEGIN:VCALENDAR
VERSION:2.0
PRODID:-//Instituto de Investigación Sanitaria de Santiago de Compostela - ECPv6.15.20//NONSGML v1.0//EN
CALSCALE:GREGORIAN
METHOD:PUBLISH
X-WR-CALNAME:Instituto de Investigación Sanitaria de Santiago de Compostela
X-ORIGINAL-URL:https://www.idisantiago.es/gl/
X-WR-CALDESC:Events for Instituto de Investigación Sanitaria de Santiago de Compostela
REFRESH-INTERVAL;VALUE=DURATION:PT1H
X-Robots-Tag:noindex
X-PUBLISHED-TTL:PT1H
BEGIN:VTIMEZONE
TZID:Europe/Madrid
BEGIN:DAYLIGHT
TZOFFSETFROM:+0100
TZOFFSETTO:+0200
TZNAME:CEST
DTSTART:20240331T010000
END:DAYLIGHT
BEGIN:STANDARD
TZOFFSETFROM:+0200
TZOFFSETTO:+0100
TZNAME:CET
DTSTART:20241027T010000
END:STANDARD
BEGIN:DAYLIGHT
TZOFFSETFROM:+0100
TZOFFSETTO:+0200
TZNAME:CEST
DTSTART:20250330T010000
END:DAYLIGHT
BEGIN:STANDARD
TZOFFSETFROM:+0200
TZOFFSETTO:+0100
TZNAME:CET
DTSTART:20251026T010000
END:STANDARD
BEGIN:DAYLIGHT
TZOFFSETFROM:+0100
TZOFFSETTO:+0200
TZNAME:CEST
DTSTART:20260329T010000
END:DAYLIGHT
BEGIN:STANDARD
TZOFFSETFROM:+0200
TZOFFSETTO:+0100
TZNAME:CET
DTSTART:20261025T010000
END:STANDARD
END:VTIMEZONE
BEGIN:VEVENT
DTSTART;TZID=Europe/Madrid:20250915T100000
DTEND;TZID=Europe/Madrid:20250915T140000
DTSTAMP:20260425T133827
CREATED:20250901T111511Z
LAST-MODIFIED:20250901T112720Z
UID:41727-1757930400-1757944800@www.idisantiago.es
SUMMARY:Dispositivos médicos: protección\, alternativas e límites legais
DESCRIPTION:A Fundación Pública Galega Instituto de Investigación Sanitaria de Santiago\, FIDIS\, organiza a xornada “Dispositivos médicos: protección\, alternativas e límites legais” presentada por Gabriel Castilla\, enxeñeiro industrial\, actual responsable de enxeñería e software do Departamento de patentes de Pons IP. \nData: 15 de setembro de 2025\nHorario: 10:00 a 14:00\nLugar: Aula 4 \nA sesión centrarase nos mecanismos de protección aplicables a dispositivos médicos\, abordando temas coma: \n-Diferenzas entre patente e deseño industrial.\n-Requisitos para obter unha patente e opcións a nivel nacional e internacional.\n-A importancia da protección do deseño industrial e os seus límites legais.\n-Exemplos prácticos de estratexias de protección e explotación de resultados. \nDescarga o cartel e o programa. \nPrazas limitadas por orde de inscrición. \nINSCRICIÓNS \nSorry. This form is no longer available.
URL:https://www.idisantiago.es/gl/event/dispositivos-medicos-proteccion-alternativas-e-limites-legais/
LOCATION:Aula 4. Docencia del Hospital Clínico Universitario de Santiago\, edificio D.\, Choupana s/n\, Santiago de Compostela\, A Coruña\, 15706\, Spain
CATEGORIES:Formación,General
ATTACH;FMTTYPE=image/png:https://www.idisantiago.es/wp-content/uploads/2025/09/FOR-I-2025-02-Pons-2_Imagen.png
END:VEVENT
BEGIN:VEVENT
DTSTART;TZID=Europe/Madrid:20250924T130000
DTEND;TZID=Europe/Madrid:20250924T133000
DTSTAMP:20260425T133827
CREATED:20250922T122235Z
LAST-MODIFIED:20250922T122235Z
UID:41964-1758718800-1758720600@www.idisantiago.es
SUMMARY:Mércores IDIS (24/09/2025)
DESCRIPTION:“The role of ATF4 and other stress response regulators in mitochondrial disease”  \nby Icía Bermúdez Fornos \nDescarga o programa da xornada aquí \nPara seguilo de forma online podes facelo a través do link
URL:https://www.idisantiago.es/gl/event/mercores-idis-24-09-2025/
LOCATION:Anfiteatro IDIS. Laboratorios IDIS\, planta -2. Hospital Clínico Universitario de Santiago de Compostela\, Travesa da Choupana\, S/N\, Santiago de Compostela\, A Coruña\, 15706\, España
CATEGORIES:Mércores IDIS
ATTACH;FMTTYPE=image/png:https://www.idisantiago.es/wp-content/uploads/2025/09/MercoresIDIS20250924.png
END:VEVENT
BEGIN:VEVENT
DTSTART;TZID=Europe/Madrid:20250926T100000
DTEND;TZID=Europe/Madrid:20250926T120000
DTSTAMP:20260425T133828
CREATED:20251008T114420Z
LAST-MODIFIED:20251008T114420Z
UID:42383-1758880800-1758888000@www.idisantiago.es
SUMMARY:El SEI San Narciso visita el IDIS
DESCRIPTION:O próximo 26 de setembro recibiremos no IDIS ao SEI San Narciso.
URL:https://www.idisantiago.es/gl/event/el-sei-san-narciso-visita-el-idis/
LOCATION:Anfiteatro IDIS. Laboratorios IDIS\, planta -2. Hospital Clínico Universitario de Santiago de Compostela\, Travesa da Choupana\, S/N\, Santiago de Compostela\, A Coruña\, 15706\, España
ATTACH;FMTTYPE=image/jpeg:https://www.idisantiago.es/wp-content/uploads/2021/11/idis_portfolio.jpg
END:VEVENT
BEGIN:VEVENT
DTSTART;TZID=Europe/Madrid:20250926T100000
DTEND;TZID=Europe/Madrid:20250926T120000
DTSTAMP:20260425T133828
CREATED:20251008T114718Z
LAST-MODIFIED:20251215T102845Z
UID:42388-1758880800-1758888000@www.idisantiago.es
SUMMARY:El SEI San Narciso visita el IDIS
DESCRIPTION:El próximo 26 de septiembre recibiremos en el IDIS al SEI San Narciso.
URL:https://www.idisantiago.es/gl/?post_type=tribe_events&p=42389
LOCATION:Anfiteatro IDIS. Laboratorios IDIS\, planta -2. Hospital Clínico Universitario de Santiago de Compostela\, Travesa da Choupana\, S/N\, Santiago de Compostela\, A Coruña\, 15706\, España
CATEGORIES:Visitas divulgación
ATTACH;FMTTYPE=image/png:https://www.idisantiago.es/wp-content/uploads/2025/12/VISITAIDIS20250926.png
END:VEVENT
BEGIN:VEVENT
DTSTART;TZID=Europe/Madrid:20250926T180000
DTEND;TZID=Europe/Madrid:20250926T210000
DTSTAMP:20260425T133828
CREATED:20250924T084013Z
LAST-MODIFIED:20250924T084013Z
UID:42029-1758909600-1758920400@www.idisantiago.es
SUMMARY:G-Night 2025
DESCRIPTION:O próximo venres\, 26 de setembro\, o Claustro do Colexio de Fonseca (Rúa do Franco s/n\, Santiago de Compostela) convertirase no espazo para achegar a ciencia á ciudadanía. Desde as 18:00 h ata as 21:00 h\, o público xeral poderá disfrutar de talleres interactivos organizados por diferentes centros de investigación\, como o CITIUS\, o CIMUS e o IDIS\, entre outros. \nEste ano\, o Instituto de Investigación Sanitaria de Santiago de Compostela participa co taller: \nDescubrindo a biomedicina: a ciencia que transforma a saúde \nMediante actividades dinámicas e explicaciones accesibles\, mostraremos cómo a biomedicina combina bioloxía\, medicina e tecnoloxía avanzada para revolucionar a prevención\, o diagnóstico e o tratamento de enfermidades. Unha oportunidade única para experimentar\, aprender e comprender cómo a investigación que realizamos en no IDIS contribúe a mellorar a calidade de vida das persoas. \n📍 Lugar: Claustro do Colexio de Fonseca\, Santiago de Compostela\n🕕 Horario: de 18:00 a 21:00 h\n👥 Público: xeral\, acceso libre \nOrganizan: Universidade de Santiago de Compostela\, IDIS\, CITMAga e INCIPIT \nPara mais información\, podes consultar o cartel do programa aquí e a páxina web do evento aquí. 
URL:https://www.idisantiago.es/gl/event/g-night-2025/
LOCATION:Colegio de Fonseca\, Rúa do Franco\, s/n\, Santiago de Compostela\, A Coruña\, 15782\, Spain
CATEGORIES:General,Formación,Divulgación
ATTACH;FMTTYPE=image/jpeg:https://www.idisantiago.es/wp-content/uploads/2025/09/Pantalla-con-logos-GNight-2025-scaled.jpg
END:VEVENT
END:VCALENDAR